Workbook

Sheet 第一页
A1: 序号 | B1: 仓库 | C1: 存货编码 | D1: 存货名称 | E1: 计量单位 | F1: 结存数量 | G1: 货位 | H1: 批号 | I1: 失效日期 | J1: 天数 | K1: 处理意见
A2: 1 | B2: 原材料 | C2: 700-TC-26 | D2: 26#陶瓷 | E2: 只 | F2: 9600 | G2: =VLOOKUP(C2,[1]第一页!$B:$G,6,0) -> B6-1-08 | H2: 22021817BC | I2: 44790 | J2: 0 | K2: 外观合格无变更
A3: 2 | B3: 原材料 | C3: 700-TC-91 | D3: 91#陶瓷 | E3: 只 | F3: 1200 | G3: =VLOOKUP(C3,[1]第一页!$B:$G,6,0) -> B6-1-03 | H3: 22021819BC | I3: 44790 | J3: 0 | K3: 外观合格无变更
A4: 3 | B4: 原材料 | C4: 700-XG-09 | D4: 硅胶线 截面7*0.25mm2 外径2.9mm红 | E4: 米 | F4: 9484 | G4: =VLOOKUP(C4,[1]第一页!$B:$G,6,0) -> B2-2-07中 | H4: 22081221AS | I4: 44788 | J4: 2 | K4: 外观合格无变更
A5: 4 | B5: 原材料 | C5: 800-H02-09 | D5: 6.3*0.8带锁亚光插片 DJ612-6.3B | E5: 只 | F5: 5000 | G5: =VLOOKUP(C5,[1]第一页!$B:$G,6,0) -> A5-3-04 | H5: 22021510FH | I5: 44787 | J5: 3 | K5: 外观合格无变更
A6: 5 | B6: 原材料 | C6: 400-01-33 | D6: UL1007 AWG20 | E6: 米 | F6: 7415 | G6: =VLOOKUP(C6,[1]第一页!$B:$G,6,0) -> A4-2-13 | H6: 22021521GH | I6: 44787 | J6: 3 | K6: 外观合格无变更
A7: 6 | B7: 原材料 | C7: 400-01-21 | D7: 滑板回位弹簧（Φ5.9*11） | E7: 只 | F7: 67800 | G7: =VLOOKUP(C7,[1]第一页!$B:$G,6,0) -> A15-4-14左 | H7: 22021313MD | I7: 44786 | J7: 4 | K7: 外观合格无变更
A8: 7 | B8: 原材料 | C8: 800-H02-07 | D8: H型静簧片 | E8: 只 | F8: 5000 | G8: =VLOOKUP(C8,[1]第一页!$B:$G,6,0) -> A15-6-10左 | H8: 22021403LMF | I8: 44786 | J8: 4 | K8: 外观合格无变更
A9: 8 | B9: 原材料 | C9: 800-H01-04 | D9: 4.8白色护套 | E9: 只 | F9: 930 | G9: =VLOOKUP(C9,[1]第一页!$B:$G,6,0) -> A9-3-12 | H9: 22012504MS | I9: 44766 | J9: 24 | K9: 外观合格无变更
A10: 9 | B10: 原材料 | C10: 700-GJ-26 | D10: 26#卡圈 不锈钢 | E10: 只 | F10: 81500 | G10: =VLOOKUP(C10,[1]第一页!$B:$G,6,0) -> A14-3-03左 | H10: 22012004LG | I10: 44761 | J10: 29 | K10: 外观合格无变更
A11: 10 | B11: 原材料 | C11: 700-DJ-96 | D11: 96号电极 镍铬合金8020 | E11: 只 | F11: 2900 | G11: =VLOOKUP(C11,[1]第一页!$B:$G,6,0) -> A15-5-06左 | H11: 22012005LG | I11: 44761 | J11: 29 | K11: 外观合格无变更
A12: 11 | B12: 原材料 | C12: 501-01-01 | D12: 带槽长铁轴 | E12: 只 | F12: 25415 | G12: =VLOOKUP(C12,[1]第一页!$B:$G,6,0) -> B1-2-04中 | H12: 22011229NSY | I12: 44759 | J12: 31 | K12: 外观合格无变更
A13: 12 | B13: 原材料 | C13: 700-GJ-05 | D13: 91号内套 | E13: 只 | F13: 4000 | G13: =VLOOKUP(C13,[1]第一页!$B:$G,6,0) -> A14-3-4右 | H13: 22011702LG | I13: 44759 | J13: 31 | K13: 外观合格无变更
... A647: 717 | B647: 原材料 | C647: 600-010-000.13 | D647: 线路板 702D | E647: 只 | F647: 3759 | G647: =VLOOKUP(C647,[1]第一页!$B:$G,6,0) -> A14-5-01右 | H647: 18101002SM | I647: 43747 | J647: 1043 | K647: 外观合格无变更

Sheet 隔离，燃烧器
D1: 超期物料明细 | H1: 截止日期 | I1: 44790
A2: 序号 | C2: 存货编码 | D2: 存货名称 | E2: 规格型号 | F2: 计量单位 | G2: 结存数量 | H2: 货位 | I2: 批号 | J2: 失效日期 | K2: 天数
A3: 1 | B3: 燃烧器原材料 | C3: 3758-90-J | D3: 阀门盖 | E3: 3758-90 | F3: 只 | G3: 700 | H3: =VLOOKUP(C3,[1]第一页!$B:$G,6,0) -> 临时 | I3: 220120-03JDS | J3: 44761 | K3: 29
A4: 2 | B4: 燃烧器原材料 | C4: 100022014 | D4: U型管 点火支架 (孔距16.5) | E4: 镀铝板 开料尺寸 88.8mm*1.5mm | F4: 支 | G4: 220 | H4: =VLOOKUP(C4,[1]第一页!$B:$G,6,0) -> #N/A | I4: 20051408MF | J4: 44694 | K4: 96
A5: 3 | B5: 燃烧器原材料 | C5: 100022014 | D5: U型管 点火支架 (孔距16.5) | E5: 镀铝板 开料尺寸 88.8mm*1.5mm | F5: 支 | G5: 2235 | H5: =VLOOKUP(C5,[1]第一页!$B:$G,6,0) -> #N/A | I5: 20051408MF | J5: 44694 | K5: 96
A6: 4 | B6: 燃烧器原材料 | C6: 100022012 | D6: U型管 安装支架 | E6: 镀铝板 开料尺寸 113mm*1.5mm | F6: 支 | G6: 1060 | H6: =VLOOKUP(C6,[1]第一页!$B:$G,6,0) -> #N/A | I6: 20102301MF | J6: 44491 | K6: 299
A7: 5 | B7: 燃烧器原材料 | C7: 100021030 | D7: L-13管型燃烧器（燃烧管） | E7: 镀铝板 φ25.4*0.9*687mm | F7: 支 | G7: 5400 | H7: =VLOOKUP(C7,[1]第一页!$B:$G,6,0) -> #N/A | I7: 210306-09YZ | J7: 44626 | K7: 164
A8: 6 | B8: 燃烧器原材料 | C8: 100021025 | D8: 椭圆进气管(25.4*19) 006 | E8: 镀铝板 管子规格25.4*19*1.5mm*216mm | F8: 支 | G8: 6621 | H8: =VLOOKUP(C8,[1]第一页!$B:$G,6,0) -> #N/A | I8: 21032304YZ | J8: 44645 | K8: 145
A9: 7 | B9: 燃烧器原材料 | C9: 100024004 | D9: 储能螺丝M5x10 | E9: M5x10 镀黄铜 | F9: 支 | G9: 39700 | H9: =VLOOKUP(C9,[1]第一页!$B:$G,6,0) -> #N/A | I9: 21032601HH | J9: 44498 | K9: 292
A10: 8 | B10: 燃烧器原材料 | C10: 100026003 | D10: 六角接头(19*21.6)-002 | E10: 黄铜 | F10: 支 | G10: 2000 | H10: =VLOOKUP(C10,[1]第一页!$B:$G,6,0) -> #N/A | I10: 21041413MH | J10: 44498 | K10: 292
A11: 9 | B11: 燃烧器原材料 | C11: 100026003 | D11: 六角接头(19*21.6)-002 | E11: 黄铜 | F11: 支 | G11: 10892 | H11: =VLOOKUP(C11,[1]第一页!$B:$G,6,0) -> #N/A | I11: 21042210MH | J11: 44673 | K11: 117
A12: 10 | B12: 燃烧器原材料 | C12: 100026003 | D12: 六角接头(19*21.6)-002 | E12: 黄铜 | F12: 支 | G12: 9000 | H12: =VLOOKUP(C12,[1]第一页!$B:$G,6,0) -> #N/A | I12: 21050411MH | J12: 44504 | K12: 286
A13: 11 | B13: 燃烧器原材料 | C13: 100021030 | D13: L-13管型燃烧器（燃烧管） | E13: 镀铝板 φ25.4*0.9*687mm | F13: 支 | G13: 6228 | H13: =VLOOKUP(C13,[1]第一页!$B:$G,6,0) -> #N/A | I13: 21050508YZ | J13: 44504 | K13: 286
A14: 12 | B14: 燃烧器原材料 | C14: 100021025 | D14: 椭圆进气管(25.4*19) 006 | E14: 镀铝板 管子规格25.4*19*1.5mm*216mm | F14: 支 | G14: 649 | H14: =VLOOKUP(C14,[1]第一页!$B:$G,6,0) -> #N/A | I14: 21051704YZ | J14: 44516 | K14: 274
... A34: 32 | B34: 隔离 | C34: 200-02-42 | D34: 2.8带锁护套 1969534-1 | E34: 2.8带锁护套（伊莱克斯地线配件） | F34: 只 | G34: 102071 | H34: =VLOOKUP(C34,[1]第一页!$B:$G,6,0) -> A10-2-03 | I34: 190110-2AFL | J34: 43655 | K34: 1135
A35: 33 | B35: 隔离 | C35: 700-FT-05 | D35: 4.8插簧白色护套 JST PS-187 | F35: 只 | G35: 170000 | H35: =VLOOKUP(C35,[1]第一页!$B:$G,6,0) -> A10-2-11 | I35: 19042602QJ | J35: 44636 | K35: 154
A36: 34 | B36: 隔离 | C36: 800-P03-16 | D36: 带扣插座 5-1971772-3 | E36: 灰色三孔母端护套 | F36: 只 | G36: 1500 | H36: =VLOOKUP(C36,[1]第一页!$B:$G,6,0) -> A10-2-09 | I36: 20072516SAW | J36: 44220 | K36: 570
A37: 35 | B37: 隔离 | C37: 800-P03-16 | D37: 带扣插座 5-1971772-3 | E37: 灰色三孔母端护套 | F37: 只 | G37: 7500 | H37: =VLOOKUP(C37,[1]第一页!$B:$G,6,0) -> A10-2-09 | I37: 20072516SAW | J37: 44221 | K37: 569
A38: 36 | B38: 隔离 | C38: 400-01-35 | D38: 4孔本色公插座 (350779-1) | E38: 耐高温 阻燃V0 红星63080-4P | F38: 只 | G38: 235 | H38: =VLOOKUP(C38,[1]第一页!$B:$G,6,0) -> A10-2-05 | I38: 211213-01HX | J38: 44725 | K38: 65
A39: 37 | B39: 隔离 | C39: 700-DJ-25 | D39: 25#钢针 | F39: 只 | G39: 57500 | H39: =VLOOKUP(C39,[1]第一页!$B:$G,6,0) -> A15-3-02 | I39: 161212-4MD | J39: 44498 | K39: 292
A40: 38 | B40: 隔离 | C40: 200-01-05 | D40: 2.8*0.8带锁插簧 1742975-1 | E40: 2.8*0.8带锁插簧(伊莱克斯地线配件) | F40: 只 | G40: 119200 | H40: =VLOOKUP(C40,[1]第一页!$B:$G,6,0) -> A8-2-17 | I40: 17071508AFL | J40: 43114 | K40: 1676
A41: 39 | B41: 隔离 | C41: 200-01-08 | D41: 2.8带锁插簧 SPS-41T-110-8 | E41: JST SPS-41T-110-8 | F41: 只 | G41: 10000 | H41: =VLOOKUP(C41,[1]第一页!$B:$G,6,0) -> A5-3-08 | I41: 190412-1QJ | J41: 44498 | K41: 292
A42: 40 | B42: 隔离 | C42: 800-S02-01 | D42: S型开关 簧片 | E42: C5191-Y-0.15 金层≥0.04um,镍层≥1.2um | F42: 只 | G42: 4777 | H42: =VLOOKUP(C42,[1]第一页!$B:$G,6,0) -> C2-1-04 | I42: 201207-15mf | J42: 44354 | K42: 436
A43: 41 | B43: 隔离 | C43: 510-01-04 | D43: 蜂鸣器静触头 | E43: 黄铜 0.8mm 酸洗 | F43: 只 | G43: 25280 | H43: =VLOOKUP(C43,[1]第一页!$B:$G,6,0) -> A13-1-05右 | I43: 22021206LG | J43: 44641 | K43: 149
A44: 42 | B44: 隔离 | C44: 510-01-04 | D44: 蜂鸣器静触头 | E44: 黄铜 0.8mm 酸洗 | F44: 只 | G44: 60000 | H44: =VLOOKUP(C44,[1]第一页!$B:$G,6,0) -> A13-1-05右 | I44: 22021709LG | J44: 44789 | K44: 1
A45: 43 | B45: 隔离 | C45: 600-010-000.7 | D45: 线路板701C-0 | F45: 只 | G45: 831 | H45: =VLOOKUP(C45,[1]第一页!$B:$G,6,0) -> A14-2-02 | I45: 17032404ZK | J45: 44498 | K45: 292
A46: 44 | B46: 隔离 | C46: DZR20001 | D46: 电阻2W 470Ω | F46: 只 | G46: 6000 | H46: =VLOOKUP(C46,[1]第一页!$B:$G,6,0) -> #N/A | I46: 17032407ZK | J46: 44498 | K46: 292
A47: 45 | B47: 隔离 | C47: 600-010-016 | D47: 电阻1/2W 10KΩ | E47: CFR-50JT-52-10K | F47: 只 | G47: 59950 | H47: =VLOOKUP(C47,[1]第一页!$B:$G,6,0) -> A12-3-3 | I47: 17032408ZK | J47: 44498 | K47: 292
A48: 46 | B48: 隔离 | C48: 600-010-037 | D48: 电阻1/2W 47KΩ | F48: 只 | G48: 26000 | H48: =VLOOKUP(C48,[1]第一页!$B:$G,6,0) -> #N/A | I48: 17032409ZK | J48: 44498 | K48: 292
A49: 47 | B49: 隔离 | C49: 600-010-038 | D49: 电阻1/2W 51KΩ | F49: 只 | G49: 24500 | H49: =VLOOKUP(C49,[1]第一页!$B:$G,6,0) -> #N/A | I49: 17032410ZK | J49: 44498 | K49: 292
A50: 48 | B50: 隔离 | C50: 600-010-042 | D50: 电阻1/4W 1K5Ω | F50: 只 | G50: 9000 | H50: =VLOOKUP(C50,[1]第一页!$B:$G,6,0) -> #N/A | I50: 17032410ZK | J50: 44498 | K50: 292
A51: 49 | B51: 隔离 | C51: 600-010-000.23 | D51: 再生2位线路板083693701 70*31mm | E51: CEM1 CTI>600 OSP工艺 | F51: 只 | G51: 200 | H51: =VLOOKUP(C51,[1]第一页!$B:$G,6,0) -> A14-4-02 | I51: 18062302ZX | J51: 44677 | K51: 113
A52: 50 | B52: 隔离 | C52: 600-010-000.23 | D52: 再生2位线路板083693701 70*31mm | E52: CEM1 CTI>600 OSP工艺 | F52: 只 | G52: 3360 | H52: =VLOOKUP(C52,[1]第一页!$B:$G,6,0) -> A14-4-02 | I52: 18092009ZX | J52: 44677 | K52: 113
A53: 51 | B53: 隔离 | C53: 600-010-000.23 | D53: 再生2位线路板083693701 70*31mm | E53: CEM1 CTI>600 OSP工艺 | F53: 只 | G53: 6100 | H53: =VLOOKUP(C53,[1]第一页!$B:$G,6,0) -> A14-4-02 | I53: 19120413SW | J53: 44677 | K53: 113
A54: 52 | B54: 隔离 | C54: 600-090-34 | D54: 黑尼龙 PA66 阻燃V0 增强25% | E54: ELECTROLUX使用 | F54: 公斤 | G54: 10 | H54: =VLOOKUP(C54,[1]第一页!$B:$G,6,0) -> 老仓库 | I54: 161117-1 | J54: 44498 | K54: 292
A55: 53 | B55: 隔离 | C55: 600-090-34 | D55: 黑尼龙 PA66 阻燃V0 增强25% | E55: ELECTROLUX使用 | F55: 公斤 | G55: 100 | H55: =VLOOKUP(C55,[1]第一页!$B:$G,6,0) -> 老仓库 | I55: 200107-1YX | J55: 44498 | K55: 292
A56: 54 | B56: 隔离 | C56: 400-02-03C | D56: 镀铬键赗（Ф8*13） | E56: KQ65油烟机开关 | F56: 只 | G56: 36430 | H56: =VLOOKUP(C56,[1]第一页!$B:$G,6,0) -> A10-1-06 | I56: 21052407HJQ | J56: 44524 | K56: 266
A57: 55 | B57: 隔离 | C57: 800-W01-03 | D57: W型开关旋钮 | F57: 只 | G57: 1480 | H57: =VLOOKUP(C57,[1]第一页!$B:$G,6,0) -> A5-1-09左 | I57: 21120707MC | J57: 44719 | K57: 71
A58: 56 | B58: 隔离 | C58: 400-02-03C | D58: 镀铬键赗（Ф8*13） | E58: KQ65油烟机开关 | F58: 只 | G58: 70600 | H58: =VLOOKUP(C58,[1]第一页!$B:$G,6,0) -> A10-1-06 | I58: 21122933HJQ | J58: 44743 | K58: 47
A59: 57 | B59: 隔离 | C59: 400-02-03C | D59: 镀铬键赗（Ф8*13） | E59: KQ65油烟机开关 | F59: 只 | G59: 9241 | H59: =VLOOKUP(C59,[1]第一页!$B:$G,6,0) -> A10-1-06 | I59: 220115001 | J59: 44756 | K59: 34

Sheet 8月
A1: 乐清市九洲电子有限公司
A2: 2022年8月份库检清单
A3: 序号 | B3: 仓库 | C3: 存货编码 | D3: 存货名称 | E3: 单位 | F3: 结存数量 | G3: 货位 | H3: 批号 | I3: 失效日期 | J3: 重检日期 | K3: 天数 | L3: 处理意见
A4: 1 | B4: 原材料 | C4: 700-TC-26 | D4: 26#陶瓷 | E4: 只 | F4: 9600 | G4: =VLOOKUP(C4,[1]第一页!$B:$G,6,0) -> B6-1-08 | H4: 22021817BC | I4: 44790 | J4: 44795 | K4: 0 | L4: 外观合格无变更
A5: 2 | B5: 原材料 | C5: 700-TC-91 | D5: 91#陶瓷 | E5: 只 | F5: 1200 | G5: =VLOOKUP(C5,[1]第一页!$B:$G,6,0) -> B6-1-03 | H5: 22021819BC | I5: 44790 | J5: 44795 | K5: 0 | L5: 外观合格无变更
A6: 3 | B6: 原材料 | C6: 700-XG-09 | D6: 硅胶线 截面7*0.25mm2 外径2.9mm红 | E6: 米 | F6: 9484 | G6: =VLOOKUP(C6,[1]第一页!$B:$G,6,0) -> B2-2-07中 | H6: 22081221AS | I6: 44788 | J6: 44795 | K6: 2 | L6: 外观合格无变更
A7: 4 | B7: 原材料 | C7: 800-H02-09 | D7: 6.3*0.8带锁亚光插片 DJ612-6.3B | E7: 只 | F7: 5000 | G7: =VLOOKUP(C7,[1]第一页!$B:$G,6,0) -> A5-3-04 | H7: 22021510FH | I7: 44787 | J7: 44795 | K7: 3 | L7: 外观合格无变更
A8: 5 | B8: 原材料 | C8: 400-01-33 | D8: UL1007 AWG20 | E8: 米 | F8: 7415 | G8: =VLOOKUP(C8,[1]第一页!$B:$G,6,0) -> A4-2-13 | H8: 22021521GH | I8: 44787 | J8: 44795 | K8: 3 | L8: 外观合格无变更
A9: 6 | B9: 原材料 | C9: 400-01-21 | D9: 滑板回位弹簧（Φ5.9*11） | E9: 只 | F9: 67800 | G9: =VLOOKUP(C9,[1]第一页!$B:$G,6,0) -> A15-4-14左 | H9: 22021313MD | I9: 44786 | J9: 44795 | K9: 4 | L9: 外观合格无变更
A10: 7 | B10: 原材料 | C10: 800-H02-07 | D10: H型静簧片 | E10: 只 | F10: 5000 | G10: =VLOOKUP(C10,[1]第一页!$B:$G,6,0) -> A15-6-10左 | H10: 22021403LMF | I10: 44786 | J10: 44795 | K10: 4 | L10: 外观合格无变更
A11: 8 | B11: 原材料 | C11: 510-01-06 | D11: 蜂鸣器 拉簧 | E11: 只 | F11: 37000 | G11: A15-4-12 | H11: 21083123XRT | I11: 44801 | J11: 44795 | K11: 170 | L11: 外观合格无变更
A12: 9 | B12: 原材料 | C12: DJGZF | D12: 冬季工作服 | E12: 件 | F12: 555 | G12: C3-3-01 | H12: 210901-01XX | I12: 44801 | J12: 44795 | K12: 170 | L12: 外观合格无变更
A13: 10 | B13: 原材料 | C13: 800-P03-07 | D13: 黑三孔护套 | E13: 只 | F13: 9656 | G13: A9-2-14 | H13: 21082612SAW | I13: 44800 | J13: 44795 | K13: 171 | L13: 外观合格无变更
A14: 11 | B14: 原材料 | C14: 101-01-03 | D14: 接地片 | E14: 只 | F14: 3950 | G14: A15-1-15左 | H14: 21082746LG | I14: 44800 | J14: 44795 | K14: 171 | L14: 外观合格无变更
A15: 12 | B15: 原材料 | C15: 700-GJ-82 | D15: 82号支架 | E15: 只 | F15: 1640 | G15: A14-2-6 | H15: 21082747LG | I15: 44800 | J15: 44795 | K15: 171 | L15: 外观合格无变更
A16: 13 | B16: 原材料 | C16: 501-01-10 | D16: 双孔单插片 | E16: 只 | F16: 1000 | G16: A15-5-11右 | H16: 21083020LG | I16: 44800 | J16: 44795 | K16: 171 | L16: 外观合格无变更
A17: 14 | B17: 原材料 | C17: 800-K02-05.3 | D17: 蓝线 UL3321 AWG20 VW-1 | E17: 米 | F17: 10980 | G17: B3-1-07 | H17: 21082734AS | I17: 44800 | J17: 44795 | K17: 171 | L17: 外观合格无变更
A18: 15 | B18: 原材料 | C18: TP-01-013 | D18: 插线贴片端子 | E18: 只 | F18: 52500 | G18: A6-2-05 | H18: 210226-02WH | I18: 44799 | J18: 44795 | K18: 172 | L18: 外观合格无变更
A19: 16 | B19: 原材料 | C19: 700-TC-25B | D19: 25B#陶瓷 | E19: 只 | F19: 38400 | G19: B6-1-05 | H19: 21082737BC | I19: 44799 | J19: 44795 | K19: 172 | L19: 外观合格无变更
A20: 17 | B20: 原材料 | C20: 700-TC-60 | D20: 60#陶瓷 | E20: 只 | F20: 5745 | G20: A16-3-06 | H20: 21082738BC | I20: 44799 | J20: 44795 | K20: 172 | L20: 外观合格无变更
A21: 18 | B21: 原材料 | C21: 700-TC-69 | D21: 69#陶瓷 | E21: 只 | F21: 6000 | G21: B5-1-04 | H21: 21082739BC | I21: 44799 | J21: 44795 | K21: 172 | L21: 外观合格无变更
A22: 19 | B22: 原材料 | C22: 700-TC-97 | D22: 97#陶瓷 | E22: 只 | F22: 4800 | G22: A16-4-01 | H22: 21082742BC | I22: 44799 | J22: 44795 | K22: 172 | L22: 外观合格无变更
... A70: 67 | B70: 原材料 | C70: NDDZ-003 | D70: 氖灯电阻组件（6*13）/120KΩ 1/4W | E70: 只 | F70: 10000 | G70: A12-3-06 | H70: 21080305CM | I70: 44775 | J70: 44795 | K70: 196 | L70: 外观合格无变更
A71: 制单人：倪晓友 | E71: 审核人： | I71: 批准人：

Sheet 7月
A1: 乐清市九洲电子有限公司
A2: 2022年7月份库检清单
A3: 序号 | B3: 仓库 | C3: 存货编码 | D3: 存货名称 | E3: 单位 | F3: 结存数量 | G3: 货位 | H3: 批号 | I3: 失效日期 | J3: 重检日期 | K3: 天数 | L3: 处理意见
A4: 1 | B4: 原材料 | C4: 800-H01-04 | D4: 4.8白色护套 | E4: 只 | F4: 930 | G4: A9-3-12 | H4: 22012504MS | I4: 44766 | J4: 44772 | K4: 24 | L4: 外观合格无变更
A5: 2 | B5: 原材料 | C5: 700-GJ-26 | D5: 26#卡圈 不锈钢 | E5: 只 | F5: 81500 | G5: A14-3-03左 | H5: 22012004LG | I5: 44761 | J5: 44772 | K5: 29 | L5: 外观合格无变更
A6: 3 | B6: 原材料 | C6: 700-DJ-96 | D6: 96号电极 镍铬合金8020 | E6: 只 | F6: 2900 | G6: A15-5-06左 | H6: 22012005LG | I6: 44761 | J6: 44772 | K6: 29 | L6: 外观合格无变更
A7: 4 | B7: 原材料 | C7: 501-01-01 | D7: 带槽长铁轴 | E7: 只 | F7: 25415 | G7: B1-2-04中 | H7: 22011229NSY | I7: 44759 | J7: 44772 | K7: 31 | L7: 外观合格无变更
A8: 5 | B8: 原材料 | C8: 700-GJ-05 | D8: 91号内套 | E8: 只 | F8: 4000 | G8: A14-3-4右 | H8: 22011702LG | I8: 44759 | J8: 44772 | K8: 31 | L8: 外观合格无变更
A9: 6 | B9: 原材料 | C9: 700-GJ-91 | D9: 91号支架 | E9: 只 | F9: 1000 | G9: A14-1-04 | H9: 22011703LG | I9: 44759 | J9: 44772 | K9: 31 | L9: 外观合格无变更
A10: 7 | B10: 原材料 | C10: 180200086 | D10: 三键定时器外壳 | E10: 只 | F10: 480 | G10: C3-1-05 | H10: 220117-02BY | I10: 44759 | J10: 44772 | K10: 31 | L10: 外观合格无变更
A11: 8 | B11: 原材料 | C11: 180200087 | D11: 显示器支撑板 | E11: 只 | F11: 1000 | G11: C3-1-04 | H11: 220115-08BY | I11: 44756 | J11: 44772 | K11: 34 | L11: 外观合格无变更
A12: 9 | B12: 原材料 | C12: 800-W02-11 | D12: 锁片 | E12: 只 | F12: 15000 | G12: A8-3-13 | H12: 22011213CJ | I12: 44754 | J12: 44772 | K12: 36 | L12: 外观合格无变更
A13: 10 | B13: 原材料 | C13: 800-W02-10 | D13: 方形插簧 | E13: 只 | F13: 72000 | G13: A5-3-02 | H13: 22011212CJ | I13: 44754 | J13: 44772 | K13: 36 | L13: 外观合格无变更
A14: 11 | B14: 原材料 | C14: 100000629 | D14: 烤箱灯泡 | E14: 支 | F14: 8000 | G14: B7-3-4 | H14: 220113-01OF | I14: 44754 | J14: 44772 | K14: 36 | L14: 外观合格无变更
A15: 12 | B15: 原材料 | C15: 505-01-01 | D15: 方形铁盖 | E15: 只 | F15: 956 | G15: A15-6-02左 | H15: 22010607jds | I15: 44752 | J15: 44772 | K15: 38 | L15: 外观合格无变更
... A49: 46 | B49: 原材料 | C49: 627-01-09 | D49: 铁镀铜铆钉 | E49: 只 | F49: 448000 | G49: A15-2-05 | H49: 21122324TX | I49: 44743 | J49: 44772 | K49: 47 | L49: 外观合格无变更
A50: 制单人：倪晓友 | E50: 审核人： | I50: 批准人：

Sheet 6月
A1: 乐清市九洲电子有限公司
A2: 2022年6月份库检清单
A3: 序号 | B3: 仓库 | C3: 存货编码 | D3: 存货名称 | E3: 单位 | F3: 结存数量 | G3: 货位 | H3: 批号 | I3: 失效日期 | J3: 重检日期 | K3: 天数 | L3: 处理意见
A4: 1 | B4: 原材料 | C4: 501-02-01 | D4: 6位基座 | E4: 只 | F4: 150 | G4: A9-1-11 | H4: 21122938WP | I4: 44741 | J4: 44742 | K4: 49 | L4: 外观合格无变更
A5: 2 | B5: 原材料 | C5: 501-01-10 | D5: 双孔单插片 | E5: 只 | F5: 1000 | G5: A15-5-11右 | H5: 21122906LG | I5: 44740 | J5: 44742 | K5: 50 | L5: 外观合格无变更
A6: 3 | B6: 原材料 | C6: 501-01-04 | D6: 单联动簧片 | E6: 只 | F6: 132 | G6: A15-5-09右 | H6: 21122912HY | I6: 44740 | J6: 44742 | K6: 50 | L6: 外观合格无变更
A7: 4 | B7: 原材料 | C7: 505-01-02 | D7: 按钮弹簧 Φ3.7*17.2 | E7: 只 | F7: 19250 | G7: A15-3-16右 | H7: 21122925XRT | I7: 44740 | J7: 44742 | K7: 50 | L7: 外观合格无变更
A8: 5 | B8: 原材料 | C8: 627-01-06 | D8: 中心触片 | E8: 支 | F8: 60000 | G8: A14-4-07 | H8: 21122908LG | I8: 44740 | J8: 44742 | K8: 50 | L8: 外观合格无变更
A9: 6 | B9: 原材料 | C9: 800-H01-18 | D9: 纸胶带 宽1cm 20米/卷 | E9: 卷 | F9: 252 | G9: C4 | H9: 20220624 | I9: 44736 | J9: 44742 | K9: 54 | L9: 外观合格无变更
A10: 7 | B10: 原材料 | C10: 400-01-17 | D10: 凸形钩针 | E10: 只 | F10: 850 | G10: A14-3-10左 | H10: 21122352MD | I10: 44735 | J10: 44742 | K10: 55 | L10: 外观合格无变更
A11: 8 | B11: 原材料 | C11: 505-02-01 | D11: 烤箱门开关胶木基座 | E11: 只 | F11: 556 | G11: A7-1-12 | H11: 21122344WP | I11: 44735 | J11: 44742 | K11: 55 | L11: 外观合格无变更
A12: 9 | B12: 原材料 | C12: 600-010-035 | D12: 薄膜电容CL21 684J/630V | E12: 只 | F12: 50000 | G12: A13-1-02 | H12: 21122330OY | I12: 44734 | J12: 44742 | K12: 56 | L12: 外观合格无变更
A13: 10 | B13: 原材料 | C13: 600-010-010 | D13: 薄膜电容CL21 205J/250V | E13: 只 | F13: 20000 | G13: B5-2-1 | H13: 21122331OY | I13: 44734 | J13: 44742 | K13: 56 | L13: 外观合格无变更
A14: 11 | B14: 原材料 | C14: 100000628 | D14: 烤箱灯泡 | E14: 支 | F14: 30200 | G14: B7-3-3 | H14: 20211223OF | I14: 44734 | J14: 44742 | K14: 56 | L14: 外观合格无变更
A15: 12 | B15: 原材料 | C15: 505-01-04 | D15: 拱桥形动触片 | E15: 只 | F15: 215 | G15: A15-6-01左 | H15: 21122212JDS | I15: 44733 | J15: 44742 | K15: 57 | L15: 外观合格无变更
... A63: 60 | B63: 原材料 | C63: 800-L02-19 | D63: 2.8*0.5插簧 | E63: 只 | F63: 32000 | G63: A8-3-19 | H63: 21120203SAW | I63: 44713 | J63: 44742 | K63: 77 | L63: 外观合格无变更
A64: 制单人：倪晓友 | E64: 审核人： | I64: 批准人：

Sheet 5月 
A1: 乐清市九洲电子有限公司
A2: 2022年5月份库检清单
A3: 序号 | B3: 仓库 | C3: 存货编码 | D3: 存货名称 | E3: 单位 | F3: 结存数量 | G3: 货位 | H3: 批号 | I3: 失效日期 | J3: 重检日期 | K3: 天数 | L3: 处理意见
A4: 1 | B4: 原材料 | C4: 700-DJ-44 | D4: 44#钢针 直径1.95 | E4: 只 | F4: 5750 | G4: A15-5-06右 | H4: 20072712MD | I4: 44712 | J4: 44712 | K4: 78 | L4: 外观合格无变更
A5: 2 | B5: 原材料 | C5: 700-DJ-176 | D5: 176#电极 | E5: 只 | F5: 600 | G5: A15-5-05右 | H5: 211230-01NSY | I5: 44712 | J5: 44712 | K5: 78 | L5: 外观合格无变更
A6: 3 | B6: 原材料 | C6: 700-TC-41 | D6: 41#陶瓷 | E6: 只 | F6: 1625 | G6: A16-2-08 | H6: 17030904HB | I6: 44712 | J6: 44712 | K6: 78 | L6: 外观合格无变更
A7: 4 | B7: 原材料 | C7: 800-J01-08 | D7: 250红旗形插簧 (6.3) | E7: 只 | F7: 700 | G7: A11-6-11左 | H7: 211130001 | I7: 44710 | J7: 44712 | K7: 80 | L7: 外观合格无变更
A8: 5 | B8: 原材料 | C8: 700-GJ-92.1 | D8: 92号上支架（厚度0.6，镀锌） | E8: 只 | F8: 627 | G8: A15-1-18 | H8: 211130005 | I8: 44710 | J8: 44712 | K8: 80 | L8: 外观合格无变更
A9: 6 | B9: 原材料 | C9: 700-TC-92 | D9: 92#陶瓷 | E9: 只 | F9: 1528 | G9: A16-3-05 | H9: 211130004 | I9: 44710 | J9: 44712 | K9: 80 | L9: 外观合格无变更
A10: 7 | B10: 原材料 | C10: 800-P03-11 | D10: 白色22孔板载插座 | E10: 只 | F10: 320 | G10: A9-3-10 | H10: 211129001 | I10: 44709 | J10: 44712 | K10: 81 | L10: 外观合格无变更
A11: 8 | B11: 原材料 | C11: 800-N01-01 | D11: N型底座 | E11: 只 | F11: 8000 | G11: A2-1-12 | H11: 21112417MC | I11: 44704 | J11: 44712 | K11: 86 | L11: 外观合格无变更
A12: 9 | B12: 原材料 | C12: 800-D01-11.1 | D12: 热缩管Φ4 | E12: 米 | F12: 800 | G12: A1-3-02左 | H12: 211122-03SB | I12: 44702 | J12: 44712 | K12: 88 | L12: 外观合格无变更
A13: 10 | B13: 原材料 | C13: 800-H01/02-02 | D13: 带白色护套的6.3插簧 | E13: 只 | F13: 4000 | G13: A8-2-07 | H13: 21112001MS | I13: 44700 | J13: 44712 | K13: 90 | L13: 外观合格无变更
A14: 11 | B14: 原材料 | C14: 800-N01-01 | D14: N型底座 | E14: 只 | F14: 4500 | G14: A2-1-12 | H14: 21111908MC | I14: 44700 | J14: 44712 | K14: 90 | L14: 外观合格无变更
A15: 12 | B15: 原材料 | C15: 800-N01-04 | D15: 004黑色旋钮 | E15: 只 | F15: 11763 | G15: A2-1-11 | H15: 21111921YZF | I15: 44700 | J15: 44712 | K15: 90 | L15: 外观合格无变更
... A31: 28 | B31: 原材料 | C31: 150600050 | D31: 178号钢针 | E31: 只 | F31: 560 | G31: A15-5-03左 | H31: 21110303MD | I31: 44683 | J31: 44712 | K31: 107 | L31: 外观合格无变更
A32: 制单人：倪晓友 | E32: 审核人： | I32: 批准人：

Sheet 4月
A1: 乐清市九洲电子有限公司
A2: 2022年4月份库检清单
A3: 序号 | B3: 仓库 | C3: 存货编码 | D3: 存货名称 | E3: 单位 | F3: 结存数量 | G3: 货位 | H3: 批号 | I3: 失效日期 | J3: 重检日期 | K3: 天数 | L3: 处理意见
A4: 1 | B4: 原材料 | C4: 150400080 | D4: 4.8*0.8插簧 | E4: 只 | F4: 8000 | G4: A8-3-06 | H4: 211029-01WG | I4: 44679 | J4: 44681 | K4: 111 | L4: 外观合格无变更
A5: 2 | B5: 原材料 | C5: 800-P02-10 | D5: UL1332 AWG22 0.35mm2 (白） | E5: 米 | F5: 9150 | G5: A3-3-04 | H5: 211025-02QFR | I5: 44675 | J5: 44681 | K5: 115 | L5: 外观合格无变更
A6: 3 | B6: 原材料 | C6: 800-P02-09 | D6: UL1332 AWG22 0.35mm2 (黄） | E6: 米 | F6: 6100 | G6: A3-3-03 | H6: 211025-03QFR | I6: 44675 | J6: 44681 | K6: 115 | L6: 外观合格无变更
A7: 4 | B7: 原材料 | C7: 600-010-000.9 | D7: 线路板12618D | E7: 只 | F7: 132000 | G7: B4-1-06 | H7: 21042022SM | I7: 44672 | J7: 44681 | K7: 118 | L7: 外观合格无变更
A8: 5 | B8: 原材料 | C8: 510-01-06 | D8: 蜂鸣器 拉簧 | E8: 只 | F8: 60000 | G8: A15-4-12 | H8: 21102105XRT | I8: 44671 | J8: 44681 | K8: 119 | L8: 外观合格无变更
A9: 6 | B9: 原材料 | C9: 600-010-000.30 | D9: 900-220-01 (DM-024)线路板 | E9: 只 | F9: 1800 | G9: A14-4-01 | H9: 21041901SM | I9: 44671 | J9: 44681 | K9: 119 | L9: 外观合格无变更
A10: 7 | B10: 原材料 | C10: 600-010-043 | D10: 安规Y2电容 1nF 102M/300V 脚距7.5mm 脚长4.5mm | E10: 只 | F10: 1000 | G10: A12-5-9右 | H10: 21042020ZX | I10: 44671 | J10: 44681 | K10: 119 | L10: 外观合格无变更
A11: 8 | B11: 原材料 | C11: 600-010-055 | D11: 电阻 6M8 1/4W | E11: 只 | F11: 5000 | G11: A12-2-3 | H11: 21042025GJ | I11: 44671 | J11: 44681 | K11: 119 | L11: 外观合格无变更
A12: 9 | B12: 原材料 | C12: 600-010-058 | D12: 电阻 68K 1/2W | E12: 只 | F12: 2000 | G12: A12-3-05左 | H12: 21042026GJ | I12: 44671 | J12: 44681 | K12: 119 | L12: 外观合格无变更
A13: 10 | B13: 原材料 | C13: 600-010-113 | D13: 三极管 BC847B | E13: 只 | F13: 3000 | G13: A12-5-5右 | H13: 211019-01NSN | I13: 44670 | J13: 44681 | K13: 120 | L13: 外观合格无变更
A14: 11 | B14: 原材料 | C14: 600-010-112 | D14: 三极管 BC857B | E14: 只 | F14: 3000 | G14: A12-5-4右 | H14: 211019-02NSN | I14: 44670 | J14: 44681 | K14: 120 | L14: 外观合格无变更
A15: 12 | B15: 原材料 | C15: TP-01-013 | D15: 插线贴片端子 | E15: 只 | F15: 520000 | G15: A6-2-05 | H15: 210416-10ZY | I15: 44668 | J15: 44681 | K15: 122 | L15: 外观合格无变更
... A47: 44 | B47: 原材料 | C47: TP-01-013 | D47: 插线贴片端子 | E47: 只 | F47: 105000 | G47: A6-2-05 | H47: 210401-02WH | I47: 44652 | J47: 44681 | K47: 138 | L47: 外观合格无变更
A48: 制单人：倪晓友 | E48: 审核人： | I48: 批准人：

Sheet 3月
A1: 乐清市九洲电子有限公司
A2: 2022年3月份库检清单
A3: 序号 | B3: 仓库 | C3: 存货编码 | D3: 存货名称 | E3: 单位 | F3: 结存数量 | G3: 货位 | H3: 批号 | I3: 失效日期 | J3: 重检日期 | K3: 天数 | L3: 处理意见
A4: 1 | B4: 原材料 | C4: 600-010-000.9 | D4: 线路板12618D | E4: 只 | F4: 113616 | G4: B4-1-06 | H4: 21032903SM | I4: 44650 | J4: 44650 | K4: 140 | L4: 外观合格无变更
A5: 2 | B5: 原材料 | C5: 800-L01-08 | D5: 三孔护套 | E5: 只 | F5: 35000 | G5: A7-3-03 | H5: 210329-12JST | I5: 44649 | J5: 44650 | K5: 141 | L5: 外观合格无变更
A6: 3 | B6: 原材料 | C6: 200-02-39 | D6: 电源线插头线卡口(黑) | E6: 只 | F6: 15467 | G6: A7-1-08左 | H6: 21093022LT | I6: 44649 | J6: 44650 | K6: 141 | L6: 外观合格无变更
A7: 4 | B7: 原材料 | C7: 800-N01-04 | D7: 004黑色旋钮 | E7: 只 | F7: 158 | G7: A2-1-11 | H7: 21093025YZF | I7: 44649 | J7: 44650 | K7: 141 | L7: 外观合格无变更
A8: 5 | B8: 原材料 | C8: 800-W01-06 | D8: 六孔护套 | E8: 只 | F8: 1721 | G8: A9-2-04 | H8: 21092802WG | I8: 44648 | J8: 44650 | K8: 142 | L8: 外观合格无变更
A9: 6 | B9: 原材料 | C9: 800-W02-09 | D9: 3孔锁片(蓝色) | E9: 只 | F9: 3000 | G9: A7-3-04 | H9: 21092804WG | I9: 44648 | J9: 44650 | K9: 142 | L9: 外观合格无变更
A10: 7 | B10: 原材料 | C10: 800-W02-08 | D10: 方形插簧 | E10: 只 | F10: 8000 | G10: A5-3-03 | H10: 21092803WG | I10: 44648 | J10: 44650 | K10: 142 | L10: 外观合格无变更
A11: 8 | B11: 原材料 | C11: 101-01-04 | D11: “ㄇ”形连接铜片 | E11: 只 | F11: 2200 | G11: A15-4-14右 | H11: 21092828LG | I11: 44648 | J11: 44650 | K11: 142 | L11: 外观合格无变更
A12: 9 | B12: 原材料 | C12: 800-S02-19 | D12: 6孔锁片 PA66 (黑色) | E12: 只 | F12: 7420 | G12: A11-6-1 | H12: 21092701ZHB | I12: 44646 | J12: 44650 | K12: 144 | L12: 外观合格无变更
A13: 10 | B13: 原材料 | C13: 600-000-041 | D13: 长接地跳线（配迷你骨架） | E13: 只 | F13: 10000 | G13: A15-6-07右 | H13: 21032518LG | I13: 44646 | J13: 44650 | K13: 144 | L13: 外观合格无变更
A14: 11 | B14: 原材料 | C14: 700-DJ-69 | D14: 69号电极 | E14: 只 | F14: 50000 | G14: A15-1-4 | H14: 21092702WB | I14: 44646 | J14: 44650 | K14: 144 | L14: 外观合格无变更
A15: 12 | B15: 原材料 | C15: 230600010 | D15: 扎带 | E15: 只 | F15: 2750 | G15: A1-2-05 | H15: 20210927-2AML | I15: 44646 | J15: 44650 | K15: 144 | L15: 外观合格无变更
... A44: 41 | B44: 原材料 | C44: TP-01-008 | D44: UL1569 AWG20 | E44: 根 | F44: 1830 | G44: A3-2-08 | H44: 21090113QFR | I44: 44621 | J44: 44650 | K44: 169 | L44: 外观合格无变更
A45: 制单人：倪晓友 | E45: 审核人： | I45: 批准人：
