Workbook

Sheet Sheet1
A1: 商店类型ID | B1: 商店ID | C1: shop name | D1: 出售npc | E1: 商店功能 | F1: 商品编号 | G1: 商品名称 | H1: 商品性别 | I1: 商品类型 | J1: 商品序号 | K1: 单格数量 | L1: 单价 | M1: 总价
A2: 5 | B2: 11 | C2: xinshou yaodian | D2: 新手药品商人 | E2: 新手药店 | F2: 53100010 | G2: 活力苏打（小） | H2: 通用 | I2: 药品 | J2: 0 | K2: 1 | L2: =VLOOKUP(F2,Sheet2!A:C,3,FALSE) -> 70
A3: 5 | B3: 11 | C3: xinshou yaodian | D3: 新手药品商人 | E3: 新手药店 | F3: 53200010 | G3: 能量汽水（小） | H3: 通用 | I3: 药品 | J3: 1 | K3: 1 | L3: =VLOOKUP(F3,Sheet2!A:C,3,FALSE) -> 70
A4: 1 | B4: 21 | C4: xinshou zhuangbei | D4: 新手装备商人 | E4: 新手装备店 | F4: 1133002a | G4: 深红手套 | H4: 男 | I4: 手套 | J4: 120000 | K4: 1 | L4: =VLOOKUP(F4,Sheet2!A:C,3,FALSE) -> 5
A5: 1 | B5: 21 | C5: xinshou zhuangbei | D5: 新手装备商人 | E5: 新手装备店 | F5: 1110002a | G5: 深红背心 | H5: 男 | I5: 内衣 | J5: 110000 | K5: 1 | L5: =VLOOKUP(F5,Sheet2!A:C,3,FALSE) -> 5
A6: 1 | B6: 21 | C6: xinshou zhuangbei | D6: 新手装备商人 | E6: 新手装备店 | F6: 1128001a | G6: 深红袜子 | H6: 男 | I6: 袜子 | J6: 140000 | K6: 1 | L6: =VLOOKUP(F6,Sheet2!A:C,3,FALSE) -> 5
A7: 1 | B7: 21 | C7: xinshou zhuangbei | D7: 新手装备商人 | E7: 新手装备店 | F7: 11320028 | G7: 深红腰带 | H7: 男 | I7: 腰带 | J7: 130000 | K7: 1 | L7: =VLOOKUP(F7,Sheet2!A:C,3,FALSE) -> 5
A8: 1 | B8: 21 | C8: xinshou zhuangbei | D8: 新手装备商人 | E8: 新手装备店 | F8: 12330015 | G8: 冰蓝护手 | H8: 女 | I8: 手套 | J8: 220000 | K8: 1 | L8: =VLOOKUP(F8,Sheet2!A:C,3,FALSE) -> 5
A9: 1 | B9: 21 | C9: xinshou zhuangbei | D9: 新手装备商人 | E9: 新手装备店 | F9: 12100161 | G9: 医生制服 | H9: 女 | I9: 内衣 | J9: 210000 | K9: 1 | L9: =VLOOKUP(F9,Sheet2!A:C,3,FALSE) -> 5
A10: 1 | B10: 21 | C10: xinshou zhuangbei | D10: 新手装备商人 | E10: 新手装备店 | F10: 12200017 | G10: 猫猫布袜 | H10: 女 | I10: 袜子 | J10: 240000 | K10: 1 | L10: =VLOOKUP(F10,Sheet2!A:C,3,FALSE) -> 5
A11: 1 | B11: 21 | C11: xinshou zhuangbei | D11: 新手装备商人 | E11: 新手装备店 | F11: 1232001b | G11: 猫猫腰带 | H11: 女 | I11: 腰带 | J11: 230000 | K11: 1 | L11: =VLOOKUP(F11,Sheet2!A:C,3,FALSE) -> 5
A12: 4 | B12: 31 | C12: xinshou shipin | D12: 新手饰品商人 | E12: 新手饰品店 | F12: 13360011 | G12: 白银耳环 | H12: 通用 | I12: 耳环 | J12: 0 | K12: 1 | L12: =VLOOKUP(F12,Sheet2!A:C,3,FALSE) -> 5
A13: 4 | B13: 31 | C13: xinshou shipin | D13: 新手饰品商人 | E13: 新手饰品店 | F13: 1337002a | G13: 红水晶护符 | H13: 通用 | I13: 内项链 | J13: 1 | K13: 1 | L13: =VLOOKUP(F13,Sheet2!A:C,3,FALSE) -> 5
A14: 4 | B14: 31 | C14: xinshou shipin | D14: 新手饰品商人 | E14: 新手饰品店 | F14: 1331002b | G14: 幸运项链 | H14: 通用 | I14: 外项链 | J14: 2 | K14: 1 | L14: =VLOOKUP(F14,Sheet2!A:C,3,FALSE) -> 5
A15: 4 | B15: 31 | C15: xinshou shipin | D15: 新手饰品商人 | E15: 新手饰品店 | F15: 1334001e | G15: 蓝光眼镜 | H15: 通用 | I15: 眼镜 | J15: 3 | K15: 1 | L15: =VLOOKUP(F15,Sheet2!A:C,3,FALSE) -> 5
A16: 4 | B16: 31 | C16: xinshou shipin | D16: 新手饰品商人 | E16: 新手饰品店 | F16: 1335002a | G16: 小野猫耳朵 | H16: 通用 | I16: 头饰 | J16: 4 | K16: 1 | L16: =VLOOKUP(F16,Sheet2!A:C,3,FALSE) -> 5
A17: 4 | B17: 31 | C17: xinshou shipin | D17: 新手饰品商人 | E17: 新手饰品店 | F17: 1338001d | G17: 深红猫尾 | H17: 通用 | I17: 尾巴 | J17: 5 | K17: 1 | L17: =VLOOKUP(F17,Sheet2!A:C,3,FALSE) -> 5
A18: 5 | B18: 12 | C18: gaoji yaopin | D18: 药品商人（世博城） | E18: 高级药品店 | F18: 53100010 | G18: 活力苏打（小） | H18: 通用 | I18: 药品 | J18: 0 | K18: 1 | L18: =VLOOKUP(F18,Sheet2!A:C,3,FALSE) -> 70
A19: 5 | B19: 12 | C19: gaoji yaopin | D19: 药品商人（世博城） | E19: 高级药品店 | F19: 53100020 | G19: 活力苏打（中） | H19: 通用 | I19: 药品 | J19: 1 | K19: 1 | L19: =VLOOKUP(F19,Sheet2!A:C,3,FALSE) -> 120
A20: 5 | B20: 12 | C20: gaoji yaopin | D20: 药品商人（世博城） | E20: 高级药品店 | F20: 53200010 | G20: 能量汽水（小） | H20: 通用 | I20: 药品 | J20: 2 | K20: 1 | L20: =VLOOKUP(F20,Sheet2!A:C,3,FALSE) -> 70
A21: 5 | B21: 12 | C21: gaoji yaopin | D21: 药品商人（世博城） | E21: 高级药品店 | F21: 53200020 | G21: 能量汽水（中） | H21: 通用 | I21: 药品 | J21: 3 | K21: 1 | L21: =VLOOKUP(F21,Sheet2!A:C,3,FALSE) -> 120
A22: 5 | B22: 12 | C22: gaoji yaopin | D22: 药品商人（世博城） | E22: 高级药品店 | F22: 23200410 | G22: 黑背鱼 | H22: 通用 | I22: 药品 | J22: 4 | K22: 1 | L22: =VLOOKUP(F22,Sheet2!A:C,3,FALSE) -> 50
A23: 5 | B23: 12 | C23: gaoji yaopin | D23: 药品商人（世博城） | E23: 高级药品店 | F23: 23200430 | G23: 小红鱼 | H23: 通用 | I23: 药品 | J23: 5 | K23: 1 | L23: =VLOOKUP(F23,Sheet2!A:C,3,FALSE) -> 100
A24: 5 | B24: 12 | C24: gaoji yaopin | D24: 药品商人（世博城） | E24: 高级药品店 | F24: 23200450 | G24: 鲈鱼 | H24: 通用 | I24: 药品 | J24: 6 | K24: 1 | L24: =VLOOKUP(F24,Sheet2!A:C,3,FALSE) -> 150
A25: 5 | B25: 12 | C25: gaoji yaopin | D25: 药品商人（世博城） | E25: 高级药品店 | F25: 23200420 | G25: 白磷 | H25: 通用 | I25: 药品 | J25: 7 | K25: 1 | L25: =VLOOKUP(F25,Sheet2!A:C,3,FALSE) -> 50
A26: 5 | B26: 12 | C26: gaoji yaopin | D26: 药品商人（世博城） | E26: 高级药品店 | F26: 23200440 | G26: 珍珠斑 | H26: 通用 | I26: 药品 | J26: 8 | K26: 1 | L26: =VLOOKUP(F26,Sheet2!A:C,3,FALSE) -> 100
A27: 5 | B27: 12 | C27: gaoji yaopin | D27: 药品商人（世博城） | E27: 高级药品店 | F27: 23200460 | G27: 石斑 | H27: 通用 | I27: 药品 | J27: 9 | K27: 1 | L27: =VLOOKUP(F27,Sheet2!A:C,3,FALSE) -> 150
A28: 5 | B28: 12 | C28: gaoji yaopin | D28: 药品商人（世博城） | E28: 高级药品店 | F28: 23530100 | G28: 治愈卡 | H28: 通用 | I28: 药品 | J28: 10 | K28: 1 | L28: =VLOOKUP(F28,Sheet2!A:C,3,FALSE) -> 500
A29: 1 | B29: 22 | C29: zhongji zhuangbei | D29: 装备商人（世博城） | E29: 中级装备店 | F29: 1133002a | G29: 深红手套 | H29: 男 | I29: 手套 | J29: 120000 | K29: 1 | L29: =VLOOKUP(F29,Sheet2!A:C,3,FALSE) -> 5
A30: 1 | B30: 22 | C30: zhongji zhuangbei | D30: 装备商人（世博城） | E30: 中级装备店 | F30: 1133002b | G30: 阳光手套 | H30: 男 | I30: 手套 | J30: 120001 | K30: 1 | L30: =VLOOKUP(F30,Sheet2!A:C,3,FALSE) -> 25
A31: 1 | B31: 22 | C31: zhongji zhuangbei | D31: 装备商人（世博城） | E31: 中级装备店 | F31: 11330024 | G31: 水晶手套 | H31: 男 | I31: 手套 | J31: 120002 | K31: 1 | L31: =VLOOKUP(F31,Sheet2!A:C,3,FALSE) -> 150
A32: 1 | B32: 22 | C32: zhongji zhuangbei | D32: 装备商人（世博城） | E32: 中级装备店 | F32: 11330038 | G32: 流星手套 | H32: 男 | I32: 手套 | J32: 120003 | K32: 1 | L32: =VLOOKUP(F32,Sheet2!A:C,3,FALSE) -> 800
A33: 1 | B33: 22 | C33: zhongji zhuangbei | D33: 装备商人（世博城） | E33: 中级装备店 | F33: 1110002a | G33: 深红背心 | H33: 男 | I33: 内衣 | J33: 110000 | K33: 1 | L33: =VLOOKUP(F33,Sheet2!A:C,3,FALSE) -> 5
A34: 1 | B34: 22 | C34: zhongji zhuangbei | D34: 装备商人（世博城） | E34: 中级装备店 | F34: 1110008b | G34: 阳光T恤 | H34: 男 | I34: 内衣 | J34: 110001 | K34: 1 | L34: =VLOOKUP(F34,Sheet2!A:C,3,FALSE) -> 25
A35: 1 | B35: 22 | C35: zhongji zhuangbei | D35: 装备商人（世博城） | E35: 中级装备店 | F35: 11100104 | G35: 水晶上衣 | H35: 男 | I35: 内衣 | J35: 110002 | K35: 1 | L35: =VLOOKUP(F35,Sheet2!A:C,3,FALSE) -> 150
A36: 1 | B36: 22 | C36: zhongji zhuangbei | D36: 装备商人（世博城） | E36: 中级装备店 | F36: 11100118 | G36: 流星上衣 | H36: 男 | I36: 内衣 | J36: 110003 | K36: 1 | L36: =VLOOKUP(F36,Sheet2!A:C,3,FALSE) -> 800
A37: 1 | B37: 22 | C37: zhongji zhuangbei | D37: 装备商人（世博城） | E37: 中级装备店 | F37: 1128001a | G37: 深红袜子 | H37: 男 | I37: 袜子 | J37: 140000 | K37: 1 | L37: =VLOOKUP(F37,Sheet2!A:C,3,FALSE) -> 5
A38: 1 | B38: 22 | C38: zhongji zhuangbei | D38: 装备商人（世博城） | E38: 中级装备店 | F38: 1128001c | G38: 阳光袜子 | H38: 男 | I38: 袜子 | J38: 140001 | K38: 1 | L38: =VLOOKUP(F38,Sheet2!A:C,3,FALSE) -> 25
A39: 1 | B39: 22 | C39: zhongji zhuangbei | D39: 装备商人（世博城） | E39: 中级装备店 | F39: 1128001e | G39: 水晶袜子 | H39: 男 | I39: 袜子 | J39: 140002 | K39: 1 | L39: =VLOOKUP(F39,Sheet2!A:C,3,FALSE) -> 150
A40: 1 | B40: 22 | C40: zhongji zhuangbei | D40: 装备商人（世博城） | E40: 中级装备店 | F40: 11200012 | G40: 流星袜子 | H40: 男 | I40: 袜子 | J40: 140003 | K40: 1 | L40: =VLOOKUP(F40,Sheet2!A:C,3,FALSE) -> 800
A41: 1 | B41: 22 | C41: zhongji zhuangbei | D41: 装备商人（世博城） | E41: 中级装备店 | F41: 11320028 | G41: 深红腰带 | H41: 男 | I41: 腰带 | J41: 130000 | K41: 1 | L41: =VLOOKUP(F41,Sheet2!A:C,3,FALSE) -> 5
A42: 1 | B42: 22 | C42: zhongji zhuangbei | D42: 装备商人（世博城） | E42: 中级装备店 | F42: 1132002c | G42: 阳光腰带 | H42: 男 | I42: 腰带 | J42: 130001 | K42: 1 | L42: =VLOOKUP(F42,Sheet2!A:C,3,FALSE) -> 25
A43: 1 | B43: 22 | C43: zhongji zhuangbei | D43: 装备商人（世博城） | E43: 中级装备店 | F43: 11320025 | G43: 水晶腰带 | H43: 男 | I43: 腰带 | J43: 130002 | K43: 1 | L43: =VLOOKUP(F43,Sheet2!A:C,3,FALSE) -> 150
A44: 1 | B44: 22 | C44: zhongji zhuangbei | D44: 装备商人（世博城） | E44: 中级装备店 | F44: 1132002a | G44: 流星腰带 | H44: 男 | I44: 腰带 | J44: 130003 | K44: 1 | L44: =VLOOKUP(F44,Sheet2!A:C,3,FALSE) -> 800
A45: 1 | B45: 22 | C45: zhongji zhuangbei | D45: 装备商人（世博城） | E45: 中级装备店 | F45: 12330015 | G45: 冰蓝护手 | H45: 女 | I45: 手套 | J45: 220000 | K45: 1 | L45: =VLOOKUP(F45,Sheet2!A:C,3,FALSE) -> 5
A46: 1 | B46: 22 | C46: zhongji zhuangbei | D46: 装备商人（世博城） | E46: 中级装备店 | F46: 1233001a | G46: 火红护手 | H46: 女 | I46: 手套 | J46: 220001 | K46: 1 | L46: =VLOOKUP(F46,Sheet2!A:C,3,FALSE) -> 25
A47: 1 | B47: 22 | C47: zhongji zhuangbei | D47: 装备商人（世博城） | E47: 中级装备店 | F47: 12330024 | G47: 猫猫手套 | H47: 女 | I47: 手套 | J47: 220002 | K47: 1 | L47: =VLOOKUP(F47,Sheet2!A:C,3,FALSE) -> 150
A48: 1 | B48: 22 | C48: zhongji zhuangbei | D48: 装备商人（世博城） | E48: 中级装备店 | F48: 12330028 | G48: 粉红手套 | H48: 女 | I48: 手套 | J48: 220003 | K48: 1 | L48: =VLOOKUP(F48,Sheet2!A:C,3,FALSE) -> 800
A49: 1 | B49: 22 | C49: zhongji zhuangbei | D49: 装备商人（世博城） | E49: 中级装备店 | F49: 12100161 | G49: 医生制服 | H49: 女 | I49: 内衣 | J49: 210000 | K49: 1 | L49: =VLOOKUP(F49,Sheet2!A:C,3,FALSE) -> 5
A50: 1 | B50: 22 | C50: zhongji zhuangbei | D50: 装备商人（世博城） | E50: 中级装备店 | F50: 1210009b | G50: 淑女上衣 | H50: 女 | I50: 内衣 | J50: 210001 | K50: 1 | L50: =VLOOKUP(F50,Sheet2!A:C,3,FALSE) -> 25
A51: 1 | B51: 22 | C51: zhongji zhuangbei | D51: 装备商人（世博城） | E51: 中级装备店 | F51: 121000c3 | G51: 高贵上衣 | H51: 女 | I51: 内衣 | J51: 210002 | K51: 1 | L51: =VLOOKUP(F51,Sheet2!A:C,3,FALSE) -> 150
A52: 1 | B52: 22 | C52: zhongji zhuangbei | D52: 装备商人（世博城） | E52: 中级装备店 | F52: 1210002a | G52: 甜蜜公主裙 | H52: 女 | I52: 内衣 | J52: 210003 | K52: 1 | L52: =VLOOKUP(F52,Sheet2!A:C,3,FALSE) -> 800
A53: 1 | B53: 22 | C53: zhongji zhuangbei | D53: 装备商人（世博城） | E53: 中级装备店 | F53: 12200017 | G53: 猫猫布袜 | H53: 女 | I53: 袜子 | J53: 240000 | K53: 1 | L53: =VLOOKUP(F53,Sheet2!A:C,3,FALSE) -> 5
A54: 1 | B54: 22 | C54: zhongji zhuangbei | D54: 装备商人（世博城） | E54: 中级装备店 | F54: 1228001a | G54: 怪盗女袜 | H54: 女 | I54: 袜子 | J54: 240001 | K54: 1 | L54: =VLOOKUP(F54,Sheet2!A:C,3,FALSE) -> 25
A55: 1 | B55: 22 | C55: zhongji zhuangbei | D55: 装备商人（世博城） | E55: 中级装备店 | F55: 1228004d | G55: 经典女袜 | H55: 女 | I55: 袜子 | J55: 240002 | K55: 1 | L55: =VLOOKUP(F55,Sheet2!A:C,3,FALSE) -> 150
A56: 1 | B56: 22 | C56: zhongji zhuangbei | D56: 装备商人（世博城） | E56: 中级装备店 | F56: 1228005d | G56: 白色丝袜 | H56: 女 | I56: 袜子 | J56: 240003 | K56: 1 | L56: =VLOOKUP(F56,Sheet2!A:C,3,FALSE) -> 800
A57: 1 | B57: 22 | C57: zhongji zhuangbei | D57: 装备商人（世博城） | E57: 中级装备店 | F57: 1232001b | G57: 猫猫腰带 | H57: 女 | I57: 腰带 | J57: 230000 | K57: 1 | L57: =VLOOKUP(F57,Sheet2!A:C,3,FALSE) -> 5
A58: 1 | B58: 22 | C58: zhongji zhuangbei | D58: 装备商人（世博城） | E58: 中级装备店 | F58: 1232001a | G58: 怪盗腰带 | H58: 女 | I58: 腰带 | J58: 230001 | K58: 1 | L58: =VLOOKUP(F58,Sheet2!A:C,3,FALSE) -> 25
A59: 1 | B59: 22 | C59: zhongji zhuangbei | D59: 装备商人（世博城） | E59: 中级装备店 | F59: 12320028 | G59: 红粉腰带 | H59: 女 | I59: 腰带 | J59: 230002 | K59: 1 | L59: =VLOOKUP(F59,Sheet2!A:C,3,FALSE) -> 150
A60: 1 | B60: 22 | C60: zhongji zhuangbei | D60: 装备商人（世博城） | E60: 中级装备店 | F60: 1232002b | G60: 光明腰带 | H60: 女 | I60: 腰带 | J60: 230003 | K60: 1 | L60: =VLOOKUP(F60,Sheet2!A:C,3,FALSE) -> 800
A61: 4 | B61: 32 | C61: zhongji shipin | D61: 中级饰品商人 | E61: 中级饰品店 | F61: 13360011 | G61: 白银耳环 | H61: 通用 | I61: 耳环 | J61: 0 | K61: 1 | L61: =VLOOKUP(F61,Sheet2!A:C,3,FALSE) -> 5
A62: 4 | B62: 32 | C62: zhongji shipin | D62: 中级饰品商人 | E62: 中级饰品店 | F62: 13360012 | G62: 黄金耳环 | H62: 通用 | I62: 耳环 | J62: 1 | K62: 1 | L62: =VLOOKUP(F62,Sheet2!A:C,3,FALSE) -> 25
A63: 4 | B63: 32 | C63: zhongji shipin | D63: 中级饰品商人 | E63: 中级饰品店 | F63: 13360013 | G63: 星星耳环 | H63: 通用 | I63: 耳环 | J63: 2 | K63: 1 | L63: =VLOOKUP(F63,Sheet2!A:C,3,FALSE) -> 150
A64: 4 | B64: 32 | C64: zhongji shipin | D64: 中级饰品商人 | E64: 中级饰品店 | F64: 13360014 | G64: 红宝石耳环 | H64: 通用 | I64: 耳环 | J64: 3 | K64: 1 | L64: =VLOOKUP(F64,Sheet2!A:C,3,FALSE) -> 800
A65: 4 | B65: 32 | C65: zhongji shipin | D65: 中级饰品商人 | E65: 中级饰品店 | F65: 1337002a | G65: 红水晶护符 | H65: 通用 | I65: 内项链 | J65: 4 | K65: 1 | L65: =VLOOKUP(F65,Sheet2!A:C,3,FALSE) -> 5
A66: 4 | B66: 32 | C66: zhongji shipin | D66: 中级饰品商人 | E66: 中级饰品店 | F66: 13370025 | G66: 蓝水晶护符 | H66: 通用 | I66: 内项链 | J66: 5 | K66: 1 | L66: =VLOOKUP(F66,Sheet2!A:C,3,FALSE) -> 25
A67: 4 | B67: 32 | C67: zhongji shipin | D67: 中级饰品商人 | E67: 中级饰品店 | F67: 13370026 | G67: 绿水晶护符 | H67: 通用 | I67: 内项链 | J67: 6 | K67: 1 | L67: =VLOOKUP(F67,Sheet2!A:C,3,FALSE) -> 150
A68: 4 | B68: 32 | C68: zhongji shipin | D68: 中级饰品商人 | E68: 中级饰品店 | F68: 1337001a | G68: 紫水晶护符 | H68: 通用 | I68: 内项链 | J68: 7 | K68: 1 | L68: =VLOOKUP(F68,Sheet2!A:C,3,FALSE) -> 800
A69: 4 | B69: 32 | C69: zhongji shipin | D69: 中级饰品商人 | E69: 中级饰品店 | F69: 1331002b | G69: 幸运项链 | H69: 通用 | I69: 外项链 | J69: 8 | K69: 1 | L69: =VLOOKUP(F69,Sheet2!A:C,3,FALSE) -> 5
A70: 4 | B70: 32 | C70: zhongji shipin | D70: 中级饰品商人 | E70: 中级饰品店 | F70: 13310038 | G70: 可人挂饰 | H70: 通用 | I70: 外项链 | J70: 9 | K70: 1 | L70: =VLOOKUP(F70,Sheet2!A:C,3,FALSE) -> 25
A71: 4 | B71: 32 | C71: zhongji shipin | D71: 中级饰品商人 | E71: 中级饰品店 | F71: 1331005d | G71: 星星吊坠 | H71: 通用 | I71: 外项链 | J71: 10 | K71: 1 | L71: =VLOOKUP(F71,Sheet2!A:C,3,FALSE) -> 150
A72: 4 | B72: 32 | C72: zhongji shipin | D72: 中级饰品商人 | E72: 中级饰品店 | F72: 13310048 | G72: 红宝石吊坠 | H72: 通用 | I72: 外项链 | J72: 11 | K72: 1 | L72: =VLOOKUP(F72,Sheet2!A:C,3,FALSE) -> 800
A73: 4 | B73: 32 | C73: zhongji shipin | D73: 中级饰品商人 | E73: 中级饰品店 | F73: 1334001e | G73: 蓝光眼镜 | H73: 通用 | I73: 眼镜 | J73: 12 | K73: 1 | L73: =VLOOKUP(F73,Sheet2!A:C,3,FALSE) -> 5
A74: 4 | B74: 32 | C74: zhongji shipin | D74: 中级饰品商人 | E74: 中级饰品店 | F74: 1334002d | G74: 酷黑眼睛 | H74: 通用 | I74: 眼镜 | J74: 13 | K74: 1 | L74: =VLOOKUP(F74,Sheet2!A:C,3,FALSE) -> 25
A75: 4 | B75: 32 | C75: zhongji shipin | D75: 中级饰品商人 | E75: 中级饰品店 | F75: 1334004a | G75: 情人眼镜 | H75: 通用 | I75: 眼镜 | J75: 14 | K75: 1 | L75: =VLOOKUP(F75,Sheet2!A:C,3,FALSE) -> 150
A76: 4 | B76: 32 | C76: zhongji shipin | D76: 中级饰品商人 | E76: 中级饰品店 | F76: 1334001a | G76: 翡翠眼镜 | H76: 通用 | I76: 眼镜 | J76: 15 | K76: 1 | L76: =VLOOKUP(F76,Sheet2!A:C,3,FALSE) -> 800
A77: 4 | B77: 32 | C77: zhongji shipin | D77: 中级饰品商人 | E77: 中级饰品店 | F77: 1335002a | G77: 小野猫耳朵 | H77: 通用 | I77: 头饰 | J77: 16 | K77: 1 | L77: =VLOOKUP(F77,Sheet2!A:C,3,FALSE) -> 5
A78: 4 | B78: 32 | C78: zhongji shipin | D78: 中级饰品商人 | E78: 中级饰品店 | F78: 1335002b | G78: 灵猫耳朵 | H78: 通用 | I78: 头饰 | J78: 17 | K78: 1 | L78: =VLOOKUP(F78,Sheet2!A:C,3,FALSE) -> 25
A79: 4 | B79: 32 | C79: zhongji shipin | D79: 中级饰品商人 | E79: 中级饰品店 | F79: 1335002e | G79: 蓝猫耳朵 | H79: 通用 | I79: 头饰 | J79: 18 | K79: 1 | L79: =VLOOKUP(F79,Sheet2!A:C,3,FALSE) -> 150
A80: 4 | B80: 32 | C80: zhongji shipin | D80: 中级饰品商人 | E80: 中级饰品店 | F80: 13350028 | G80: 粉红猫耳 | H80: 通用 | I80: 头饰 | J80: 19 | K80: 1 | L80: =VLOOKUP(F80,Sheet2!A:C,3,FALSE) -> 800
A81: 4 | B81: 32 | C81: zhongji shipin | D81: 中级饰品商人 | E81: 中级饰品店 | F81: 1338001d | G81: 深红猫尾 | H81: 通用 | I81: 尾巴 | J81: 20 | K81: 1 | L81: =VLOOKUP(F81,Sheet2!A:C,3,FALSE) -> 5
A82: 4 | B82: 32 | C82: zhongji shipin | D82: 中级饰品商人 | E82: 中级饰品店 | F82: 1338001b | G82: 阳光尾巴 | H82: 通用 | I82: 尾巴 | J82: 21 | K82: 1 | L82: =VLOOKUP(F82,Sheet2!A:C,3,FALSE) -> 25
A83: 4 | B83: 32 | C83: zhongji shipin | D83: 中级饰品商人 | E83: 中级饰品店 | F83: 1338001e | G83: 海洋猫尾 | H83: 通用 | I83: 尾巴 | J83: 22 | K83: 1 | L83: =VLOOKUP(F83,Sheet2!A:C,3,FALSE) -> 150
A84: 4 | B84: 32 | C84: zhongji shipin | D84: 中级饰品商人 | E84: 中级饰品店 | F84: 13380016 | G84: 蓝猫尾巴 | H84: 通用 | I84: 尾巴 | J84: 23 | K84: 1 | L84: =VLOOKUP(F84,Sheet2!A:C,3,FALSE) -> 800
A85: 3 | B85: 41 | C85: zhengrong | D85: 美容师（世博城） | E85: 整容店 | F85: 3320001b | G85: 眼睛1 | H85: 自动选择 | I85: 眼睛 | J85: 100000 | K85: 1 | L85: =VLOOKUP(F85,Sheet2!A:C,3,FALSE) -> 500
A86: 3 | B86: 41 | C86: zhengrong | D86: 美容师（世博城） | E86: 整容店 | F86: 33200013 | G86: 眼睛2 | H86: 自动选择 | I86: 眼睛 | J86: 100001 | K86: 1 | L86: =VLOOKUP(F86,Sheet2!A:C,3,FALSE) -> 500
A87: 3 | B87: 41 | C87: zhengrong | D87: 美容师（世博城） | E87: 整容店 | F87: 3320002d | G87: 眼睛3 | H87: 自动选择 | I87: 眼睛 | J87: 100002 | K87: 1 | L87: =VLOOKUP(F87,Sheet2!A:C,3,FALSE) -> 500
A88: 3 | B88: 41 | C88: zhengrong | D88: 美容师（世博城） | E88: 整容店 | F88: 33200015 | G88: 眼睛4 | H88: 自动选择 | I88: 眼睛 | J88: 100003 | K88: 1 | L88: =VLOOKUP(F88,Sheet2!A:C,3,FALSE) -> 500
A89: 3 | B89: 41 | C89: zhengrong | D89: 美容师（世博城） | E89: 整容店 | F89: 33200016 | G89: 眼睛5 | H89: 自动选择 | I89: 眼睛 | J89: 100004 | K89: 1 | L89: =VLOOKUP(F89,Sheet2!A:C,3,FALSE) -> 500
A90: 3 | B90: 41 | C90: zhengrong | D90: 美容师（世博城） | E90: 整容店 | F90: 33200017 | G90: 眼睛6 | H90: 自动选择 | I90: 眼睛 | J90: 100005 | K90: 1 | L90: =VLOOKUP(F90,Sheet2!A:C,3,FALSE) -> 500
A91: 3 | B91: 41 | C91: zhengrong | D91: 美容师（世博城） | E91: 整容店 | F91: 33200018 | G91: 眼睛7 | H91: 自动选择 | I91: 眼睛 | J91: 100006 | K91: 1 | L91: =VLOOKUP(F91,Sheet2!A:C,3,FALSE) -> 500
A92: 3 | B92: 41 | C92: zhengrong | D92: 美容师（世博城） | E92: 整容店 | F92: 33200019 | G92: 眼睛8 | H92: 自动选择 | I92: 眼睛 | J92: 100007 | K92: 1 | L92: =VLOOKUP(F92,Sheet2!A:C,3,FALSE) -> 500
A93: 3 | B93: 41 | C93: zhengrong | D93: 美容师（世博城） | E93: 整容店 | F93: 3320001a | G93: 眼睛9 | H93: 自动选择 | I93: 眼睛 | J93: 100008 | K93: 1 | L93: =VLOOKUP(F93,Sheet2!A:C,3,FALSE) -> 500
A94: 3 | B94: 41 | C94: zhengrong | D94: 美容师（世博城） | E94: 整容店 | F94: 3320001e | G94: 眼睛10 | H94: 自动选择 | I94: 眼睛 | J94: 100009 | K94: 1 | L94: =VLOOKUP(F94,Sheet2!A:C,3,FALSE) -> 500
A95: 3 | B95: 41 | C95: zhengrong | D95: 美容师（世博城） | E95: 整容店 | F95: 33200034 | G95: 眼睛11 | H95: 自动选择 | I95: 眼睛 | J95: 100010 | K95: 1 | L95: =VLOOKUP(F95,Sheet2!A:C,3,FALSE) -> 500
A96: 3 | B96: 41 | C96: zhengrong | D96: 美容师（世博城） | E96: 整容店 | F96: 3320003e | G96: 眼睛12 | H96: 自动选择 | I96: 眼睛 | J96: 100011 | K96: 1 | L96: =VLOOKUP(F96,Sheet2!A:C,3,FALSE) -> 500
... A435: 1 | B435: 23 | C435: gaoji zhuangbei | D435: 装备商人（维多利亚港） | E435: 高级装备 | F435: 1133003b | G435: 大地手套 | H435: 男 | I435: 手套 | J435: 120000 | K435: 1 | L435: =VLOOKUP(F435,Sheet2!A:C,3,FALSE) -> 2600
A436: 1 | B436: 23 | C436: gaoji zhuangbei | D436: 装备商人（维多利亚港） | E436: 高级装备 | F436: 11330036 | G436: 生命手套 | H436: 男 | I436: 手套 | J436: 120001 | K436: 1 | L436: =VLOOKUP(F436,Sheet2!A:C,3,FALSE) -> 7200
A437: 1 | B437: 23 | C437: gaoji zhuangbei | D437: 装备商人（维多利亚港） | E437: 高级装备 | F437: 11100087 | G437: 大地上衣 | H437: 男 | I437: 内衣 | J437: 110000 | K437: 1 | L437: =VLOOKUP(F437,Sheet2!A:C,3,FALSE) -> 2600
A438: 1 | B438: 23 | C438: gaoji zhuangbei | D438: 装备商人（维多利亚港） | E438: 高级装备 | F438: 11100096 | G438: 生命上衣 | H438: 男 | I438: 内衣 | J438: 110001 | K438: 1 | L438: =VLOOKUP(F438,Sheet2!A:C,3,FALSE) -> 7200
...

Sheet 商城数据库
A1: ID | B1: shop id | C1: shop name | D1: itemid | E1: cellid | F1: gridnum | G1: buyprice
A2: 5 | B2: 11 | C2: xinshou yaodian | D2: 53100010 | E2: 0 | F2: 1 | G2: 70
A3: 5 | B3: 11 | C3: xinshou yaodian | D3: 53200010 | E3: 1 | F3: 1 | G3: 70
A4: 1 | B4: 21 | C4: xinshou zhuangbei | D4: 1133002a | E4: 120000 | F4: 1 | G4: 5
A5: 1 | B5: 21 | C5: xinshou zhuangbei | D5: 1110002a | E5: 110000 | F5: 1 | G5: 5
A6: 1 | B6: 21 | C6: xinshou zhuangbei | D6: 1128001a | E6: 140000 | F6: 1 | G6: 5
A7: 1 | B7: 21 | C7: xinshou zhuangbei | D7: 11320028 | E7: 130000 | F7: 1 | G7: 5
A8: 1 | B8: 21 | C8: xinshou zhuangbei | D8: 12330015 | E8: 220000 | F8: 1 | G8: 5
A9: 1 | B9: 21 | C9: xinshou zhuangbei | D9: 12100161 | E9: 210000 | F9: 1 | G9: 5
A10: 1 | B10: 21 | C10: xinshou zhuangbei | D10: 12200017 | E10: 240000 | F10: 1 | G10: 5
A11: 1 | B11: 21 | C11: xinshou zhuangbei | D11: 1232001b | E11: 230000 | F11: 1 | G11: 5
A12: 4 | B12: 31 | C12: xinshou shipin | D12: 13360011 | E12: 0 | F12: 1 | G12: 5
A13: 4 | B13: 31 | C13: xinshou shipin | D13: 1337002a | E13: 1 | F13: 1 | G13: 5
A14: 4 | B14: 31 | C14: xinshou shipin | D14: 1331002b | E14: 2 | F14: 1 | G14: 5
A15: 4 | B15: 31 | C15: xinshou shipin | D15: 1334001e | E15: 3 | F15: 1 | G15: 5
A16: 4 | B16: 31 | C16: xinshou shipin | D16: 1335002a | E16: 4 | F16: 1 | G16: 5
A17: 4 | B17: 31 | C17: xinshou shipin | D17: 1338001d | E17: 5 | F17: 1 | G17: 5
A18: 5 | B18: 12 | C18: gaoji yaopin | D18: 53100010 | E18: 0 | F18: 1 | G18: 70
A19: 5 | B19: 12 | C19: gaoji yaopin | D19: 53100020 | E19: 1 | F19: 1 | G19: 120
A20: 5 | B20: 12 | C20: gaoji yaopin | D20: 53200010 | E20: 2 | F20: 1 | G20: 70
A21: 5 | B21: 12 | C21: gaoji yaopin | D21: 53200020 | E21: 3 | F21: 1 | G21: 120
A22: 5 | B22: 12 | C22: gaoji yaopin | D22: 23200410 | E22: 4 | F22: 1 | G22: 50
A23: 5 | B23: 12 | C23: gaoji yaopin | D23: 23200430 | E23: 5 | F23: 1 | G23: 100
A24: 5 | B24: 12 | C24: gaoji yaopin | D24: 23200450 | E24: 6 | F24: 1 | G24: 150
A25: 5 | B25: 12 | C25: gaoji yaopin | D25: 23200420 | E25: 7 | F25: 1 | G25: 50
A26: 5 | B26: 12 | C26: gaoji yaopin | D26: 23200440 | E26: 8 | F26: 1 | G26: 100
A27: 5 | B27: 12 | C27: gaoji yaopin | D27: 23200460 | E27: 9 | F27: 1 | G27: 150
A28: 5 | B28: 12 | C28: gaoji yaopin | D28: 23530100 | E28: 10 | F28: 1 | G28: 500
A29: 1 | B29: 22 | C29: zhongji zhuangbei | D29: 1133002a | E29: 120000 | F29: 1 | G29: 5
A30: 1 | B30: 22 | C30: zhongji zhuangbei | D30: 1133002b | E30: 120001 | F30: 1 | G30: 25
A31: 1 | B31: 22 | C31: zhongji zhuangbei | D31: 11330024 | E31: 120002 | F31: 1 | G31: 150
A32: 1 | B32: 22 | C32: zhongji zhuangbei | D32: 11330038 | E32: 120003 | F32: 1 | G32: 800
A33: 1 | B33: 22 | C33: zhongji zhuangbei | D33: 1110002a | E33: 110000 | F33: 1 | G33: 5
A34: 1 | B34: 22 | C34: zhongji zhuangbei | D34: 1110008b | E34: 110001 | F34: 1 | G34: 25
A35: 1 | B35: 22 | C35: zhongji zhuangbei | D35: 11100104 | E35: 110002 | F35: 1 | G35: 150
A36: 1 | B36: 22 | C36: zhongji zhuangbei | D36: 11100118 | E36: 110003 | F36: 1 | G36: 800
A37: 1 | B37: 22 | C37: zhongji zhuangbei | D37: 1128001a | E37: 140000 | F37: 1 | G37: 5
A38: 1 | B38: 22 | C38: zhongji zhuangbei | D38: 1128001c | E38: 140001 | F38: 1 | G38: 25
A39: 1 | B39: 22 | C39: zhongji zhuangbei | D39: 1128001e | E39: 140002 | F39: 1 | G39: 150
A40: 1 | B40: 22 | C40: zhongji zhuangbei | D40: 11200012 | E40: 140003 | F40: 1 | G40: 800
A41: 1 | B41: 22 | C41: zhongji zhuangbei | D41: 11320028 | E41: 130000 | F41: 1 | G41: 5
A42: 1 | B42: 22 | C42: zhongji zhuangbei | D42: 1132002c | E42: 130001 | F42: 1 | G42: 25
A43: 1 | B43: 22 | C43: zhongji zhuangbei | D43: 11320025 | E43: 130002 | F43: 1 | G43: 150
A44: 1 | B44: 22 | C44: zhongji zhuangbei | D44: 1132002a | E44: 130003 | F44: 1 | G44: 800
A45: 1 | B45: 22 | C45: zhongji zhuangbei | D45: 12330015 | E45: 220000 | F45: 1 | G45: 5
A46: 1 | B46: 22 | C46: zhongji zhuangbei | D46: 1233001a | E46: 220001 | F46: 1 | G46: 25
A47: 1 | B47: 22 | C47: zhongji zhuangbei | D47: 12330024 | E47: 220002 | F47: 1 | G47: 150
A48: 1 | B48: 22 | C48: zhongji zhuangbei | D48: 12330028 | E48: 220003 | F48: 1 | G48: 800
A49: 1 | B49: 22 | C49: zhongji zhuangbei | D49: 12100161 | E49: 210000 | F49: 1 | G49: 5
A50: 1 | B50: 22 | C50: zhongji zhuangbei | D50: 1210009b | E50: 210001 | F50: 1 | G50: 25
A51: 1 | B51: 22 | C51: zhongji zhuangbei | D51: 121000c3 | E51: 210002 | F51: 1 | G51: 150
A52: 1 | B52: 22 | C52: zhongji zhuangbei | D52: 1210002a | E52: 210003 | F52: 1 | G52: 800
A53: 1 | B53: 22 | C53: zhongji zhuangbei | D53: 12200017 | E53: 240000 | F53: 1 | G53: 5
A54: 1 | B54: 22 | C54: zhongji zhuangbei | D54: 1228001a | E54: 240001 | F54: 1 | G54: 25
A55: 1 | B55: 22 | C55: zhongji zhuangbei | D55: 1228004d | E55: 240002 | F55: 1 | G55: 150
A56: 1 | B56: 22 | C56: zhongji zhuangbei | D56: 1228005d | E56: 240003 | F56: 1 | G56: 800
A57: 1 | B57: 22 | C57: zhongji zhuangbei | D57: 1232001b | E57: 230000 | F57: 1 | G57: 5
A58: 1 | B58: 22 | C58: zhongji zhuangbei | D58: 1232001a | E58: 230001 | F58: 1 | G58: 25
A59: 1 | B59: 22 | C59: zhongji zhuangbei | D59: 12320028 | E59: 230002 | F59: 1 | G59: 150
A60: 1 | B60: 22 | C60: zhongji zhuangbei | D60: 1232002b | E60: 230003 | F60: 1 | G60: 800
A61: 4 | B61: 32 | C61: zhongji shipin | D61: 13360011 | E61: 0 | F61: 1 | G61: 5
A62: 4 | B62: 32 | C62: zhongji shipin | D62: 13360012 | E62: 1 | F62: 1 | G62: 25
A63: 4 | B63: 32 | C63: zhongji shipin | D63: 13360013 | E63: 2 | F63: 1 | G63: 150
A64: 4 | B64: 32 | C64: zhongji shipin | D64: 13360014 | E64: 3 | F64: 1 | G64: 800
A65: 4 | B65: 32 | C65: zhongji shipin | D65: 1337002a | E65: 4 | F65: 1 | G65: 5
A66: 4 | B66: 32 | C66: zhongji shipin | D66: 13370025 | E66: 5 | F66: 1 | G66: 25
A67: 4 | B67: 32 | C67: zhongji shipin | D67: 13370026 | E67: 6 | F67: 1 | G67: 150
A68: 4 | B68: 32 | C68: zhongji shipin | D68: 1337001a | E68: 7 | F68: 1 | G68: 800
A69: 4 | B69: 32 | C69: zhongji shipin | D69: 1331002b | E69: 8 | F69: 1 | G69: 5
A70: 4 | B70: 32 | C70: zhongji shipin | D70: 13310038 | E70: 9 | F70: 1 | G70: 25
A71: 4 | B71: 32 | C71: zhongji shipin | D71: 1331005d | E71: 10 | F71: 1 | G71: 150
A72: 4 | B72: 32 | C72: zhongji shipin | D72: 13310048 | E72: 11 | F72: 1 | G72: 800
A73: 4 | B73: 32 | C73: zhongji shipin | D73: 1334001e | E73: 12 | F73: 1 | G73: 5
A74: 4 | B74: 32 | C74: zhongji shipin | D74: 1334002d | E74: 13 | F74: 1 | G74: 25
A75: 4 | B75: 32 | C75: zhongji shipin | D75: 1334004a | E75: 14 | F75: 1 | G75: 150
A76: 4 | B76: 32 | C76: zhongji shipin | D76: 1334001a | E76: 15 | F76: 1 | G76: 800
A77: 4 | B77: 32 | C77: zhongji shipin | D77: 1335002a | E77: 16 | F77: 1 | G77: 5
A78: 4 | B78: 32 | C78: zhongji shipin | D78: 1335002b | E78: 17 | F78: 1 | G78: 25
A79: 4 | B79: 32 | C79: zhongji shipin | D79: 1335002e | E79: 18 | F79: 1 | G79: 150
A80: 4 | B80: 32 | C80: zhongji shipin | D80: 13350028 | E80: 19 | F80: 1 | G80: 800
A81: 4 | B81: 32 | C81: zhongji shipin | D81: 1338001d | E81: 20 | F81: 1 | G81: 5
A82: 4 | B82: 32 | C82: zhongji shipin | D82: 1338001b | E82: 21 | F82: 1 | G82: 25
A83: 4 | B83: 32 | C83: zhongji shipin | D83: 1338001e | E83: 22 | F83: 1 | G83: 150
A84: 4 | B84: 32 | C84: zhongji shipin | D84: 13380016 | E84: 23 | F84: 1 | G84: 800
A85: 3 | B85: 41 | C85: zhengrong | D85: 3320001b | E85: 100000 | F85: 1 | G85: 500
A86: 3 | B86: 41 | C86: zhengrong | D86: 33200013 | E86: 100001 | F86: 1 | G86: 500
A87: 3 | B87: 41 | C87: zhengrong | D87: 3320002d | E87: 100002 | F87: 1 | G87: 500
A88: 3 | B88: 41 | C88: zhengrong | D88: 33200015 | E88: 100003 | F88: 1 | G88: 500
A89: 3 | B89: 41 | C89: zhengrong | D89: 33200016 | E89: 100004 | F89: 1 | G89: 500
A90: 3 | B90: 41 | C90: zhengrong | D90: 33200017 | E90: 100005 | F90: 1 | G90: 500
A91: 3 | B91: 41 | C91: zhengrong | D91: 33200018 | E91: 100006 | F91: 1 | G91: 500
A92: 3 | B92: 41 | C92: zhengrong | D92: 33200019 | E92: 100007 | F92: 1 | G92: 500
A93: 3 | B93: 41 | C93: zhengrong | D93: 3320001a | E93: 100008 | F93: 1 | G93: 500
A94: 3 | B94: 41 | C94: zhengrong | D94: 3320001e | E94: 100009 | F94: 1 | G94: 500
A95: 3 | B95: 41 | C95: zhengrong | D95: 33200034 | E95: 100010 | F95: 1 | G95: 500
A96: 3 | B96: 41 | C96: zhengrong | D96: 3320003e | E96: 100011 | F96: 1 | G96: 500
... A435: 1 | B435: 23 | C435: gaoji zhuangbei | D435: 1133003b | E435: 120000 | F435: 1 | G435: 2600
A436: 1 | B436: 23 | C436: gaoji zhuangbei | D436: 11330036 | E436: 120001 | F436: 1 | G436: 7200
A437: 1 | B437: 23 | C437: gaoji zhuangbei | D437: 11100087 | E437: 110000 | F437: 1 | G437: 2600
A438: 1 | B438: 23 | C438: gaoji zhuangbei | D438: 11100096 | E438: 110001 | F438: 1 | G438: 7200
...

Sheet 数据库导出
A2: 1 | B2: 11 | C2: xinshou yaodian | D2: 23610010 | E2: 0 | F2: 1 | G2: 5 | H2: 0
A3: 2 | B3: 11 | C3: xinshou yaodian | D3: 23620010 | E3: 1 | F3: 1 | G3: 5 | H3: 0
A4: 3 | B4: 21 | C4: xinshou zhuangbei | D4: 1133002a | E4: 120000 | F4: 1 | G4: 5 | H4: 0
A5: 4 | B5: 21 | C5: xinshou zhuangbei | D5: 1110002a | E5: 110000 | F5: 1 | G5: 5 | H5: 0
A6: 5 | B6: 21 | C6: xinshou zhuangbei | D6: 1128001a | E6: 140000 | F6: 1 | G6: 5 | H6: 0
A7: 6 | B7: 21 | C7: xinshou zhuangbei | D7: 11320028 | E7: 130000 | F7: 1 | G7: 5 | H7: 0
A8: 7 | B8: 21 | C8: xinshou zhuangbei | D8: 12330015 | E8: 220000 | F8: 1 | G8: 5 | H8: 0
A9: 8 | B9: 21 | C9: xinshou zhuangbei | D9: 12100161 | E9: 210000 | F9: 1 | G9: 5 | H9: 0
A10: 9 | B10: 21 | C10: xinshou zhuangbei | D10: 12200017 | E10: 240000 | F10: 1 | G10: 5 | H10: 0
A11: 10 | B11: 21 | C11: xinshou zhuangbei | D11: 1232001b | E11: 230000 | F11: 1 | G11: 5 | H11: 0
A12: 11 | B12: 31 | C12: xinshou shipin | D12: 13360011 | E12: 0 | F12: 1 | G12: 5 | H12: 0
A13: 12 | B13: 31 | C13: xinshou shipin | D13: 1337002a | E13: 1 | F13: 1 | G13: 5 | H13: 0
A14: 13 | B14: 31 | C14: xinshou shipin | D14: 1331002b | E14: 2 | F14: 1 | G14: 5 | H14: 0
A15: 14 | B15: 31 | C15: xinshou shipin | D15: 1334001e | E15: 3 | F15: 1 | G15: 5 | H15: 0
A16: 15 | B16: 31 | C16: xinshou shipin | D16: 1335002a | E16: 4 | F16: 1 | G16: 5 | H16: 0
A17: 16 | B17: 31 | C17: xinshou shipin | D17: 1338001d | E17: 5 | F17: 1 | G17: 5 | H17: 0
A18: 17 | B18: 12 | C18: gaoji yaopin | D18: 23610010 | E18: 0 | F18: 1 | G18: 5 | H18: 0
A19: 18 | B19: 12 | C19: gaoji yaopin | D19: 23610020 | E19: 1 | F19: 1 | G19: 12 | H19: 0
A20: 19 | B20: 12 | C20: gaoji yaopin | D20: 23610030 | E20: 2 | F20: 1 | G20: 30 | H20: 0
A21: 20 | B21: 12 | C21: gaoji yaopin | D21: 23620010 | E21: 4 | F21: 1 | G21: 5 | H21: 0
A22: 21 | B22: 12 | C22: gaoji yaopin | D22: 23620020 | E22: 5 | F22: 1 | G22: 12 | H22: 0
A23: 22 | B23: 12 | C23: gaoji yaopin | D23: 23620030 | E23: 6 | F23: 1 | G23: 30 | H23: 0
A24: 23 | B24: 12 | C24: gaoji yaopin | D24: 23200410 | E24: 7 | F24: 1 | G24: 5 | H24: 0
A25: 24 | B25: 12 | C25: gaoji yaopin | D25: 23200430 | E25: 8 | F25: 1 | G25: 12 | H25: 0
A26: 25 | B26: 12 | C26: gaoji yaopin | D26: 23200450 | E26: 9 | F26: 1 | G26: 35 | H26: 0
A27: 26 | B27: 12 | C27: gaoji yaopin | D27: 23200420 | E27: 10 | F27: 1 | G27: 5 | H27: 0
A28: 27 | B28: 12 | C28: gaoji yaopin | D28: 23200440 | E28: 11 | F28: 1 | G28: 12 | H28: 0
A29: 28 | B29: 12 | C29: gaoji yaopin | D29: 23200460 | E29: 12 | F29: 1 | G29: 30 | H29: 0
A30: 29 | B30: 12 | C30: gaoji yaopin | D30: 23530100 | E30: 13 | F30: 1 | G30: 500 | H30: 0
A31: 30 | B31: 22 | C31: zhongji zhuangbei | D31: 1133002a | E31: 120000 | F31: 1 | G31: 5 | H31: 0
A32: 31 | B32: 22 | C32: zhongji zhuangbei | D32: 1133002b | E32: 120001 | F32: 1 | G32: 25 | H32: 0
A33: 32 | B33: 22 | C33: zhongji zhuangbei | D33: 11330024 | E33: 120002 | F33: 1 | G33: 150 | H33: 0
A34: 34 | B34: 22 | C34: zhongji zhuangbei | D34: 1110002a | E34: 110000 | F34: 1 | G34: 5 | H34: 0
A35: 35 | B35: 22 | C35: zhongji zhuangbei | D35: 1110008b | E35: 110001 | F35: 1 | G35: 25 | H35: 0
A36: 36 | B36: 22 | C36: zhongji zhuangbei | D36: 11100104 | E36: 110002 | F36: 1 | G36: 150 | H36: 0
A37: 38 | B37: 22 | C37: zhongji zhuangbei | D37: 1128001a | E37: 140000 | F37: 1 | G37: 5 | H37: 0
A38: 39 | B38: 22 | C38: zhongji zhuangbei | D38: 1128001c | E38: 140001 | F38: 1 | G38: 25 | H38: 0
A39: 40 | B39: 22 | C39: zhongji zhuangbei | D39: 1128001e | E39: 140002 | F39: 1 | G39: 150 | H39: 0
A40: 42 | B40: 22 | C40: zhongji zhuangbei | D40: 11320028 | E40: 130000 | F40: 1 | G40: 5 | H40: 0
A41: 43 | B41: 22 | C41: zhongji zhuangbei | D41: 1132002c | E41: 130001 | F41: 1 | G41: 25 | H41: 0
A42: 44 | B42: 22 | C42: zhongji zhuangbei | D42: 11320025 | E42: 130002 | F42: 1 | G42: 150 | H42: 0
A43: 46 | B43: 22 | C43: zhongji zhuangbei | D43: 12330015 | E43: 220000 | F43: 1 | G43: 5 | H43: 0
A44: 47 | B44: 22 | C44: zhongji zhuangbei | D44: 1233001a | E44: 220001 | F44: 1 | G44: 25 | H44: 0
A45: 48 | B45: 22 | C45: zhongji zhuangbei | D45: 12330024 | E45: 220002 | F45: 1 | G45: 150 | H45: 0
A46: 50 | B46: 22 | C46: zhongji zhuangbei | D46: 12100161 | E46: 210000 | F46: 1 | G46: 5 | H46: 0
A47: 51 | B47: 22 | C47: zhongji zhuangbei | D47: 1210009b | E47: 210001 | F47: 1 | G47: 25 | H47: 0
A48: 52 | B48: 22 | C48: zhongji zhuangbei | D48: 121000c3 | E48: 210002 | F48: 1 | G48: 150 | H48: 0
A49: 54 | B49: 22 | C49: zhongji zhuangbei | D49: 12200017 | E49: 240000 | F49: 1 | G49: 5 | H49: 0
A50: 55 | B50: 22 | C50: zhongji zhuangbei | D50: 1228001a | E50: 240001 | F50: 1 | G50: 25 | H50: 0
A51: 56 | B51: 22 | C51: zhongji zhuangbei | D51: 1228004d | E51: 240002 | F51: 1 | G51: 150 | H51: 0
A52: 58 | B52: 22 | C52: zhongji zhuangbei | D52: 1232001b | E52: 230000 | F52: 1 | G52: 5 | H52: 0
A53: 59 | B53: 22 | C53: zhongji zhuangbei | D53: 1232001a | E53: 230001 | F53: 1 | G53: 25 | H53: 0
A54: 60 | B54: 22 | C54: zhongji zhuangbei | D54: 12320028 | E54: 230002 | F54: 1 | G54: 150 | H54: 0
A55: 62 | B55: 32 | C55: zhongji shipin | D55: 13360011 | E55: 0 | F55: 1 | G55: 5 | H55: 0
A56: 63 | B56: 32 | C56: zhongji shipin | D56: 13360012 | E56: 1 | F56: 1 | G56: 25 | H56: 0
A57: 64 | B57: 32 | C57: zhongji shipin | D57: 13360013 | E57: 2 | F57: 1 | G57: 150 | H57: 0
A58: 65 | B58: 32 | C58: zhongji shipin | D58: 13360014 | E58: 3 | F58: 1 | G58: 800 | H58: 0
A59: 66 | B59: 32 | C59: zhongji shipin | D59: 1337002a | E59: 4 | F59: 1 | G59: 5 | H59: 0
A60: 67 | B60: 32 | C60: zhongji shipin | D60: 13370025 | E60: 5 | F60: 1 | G60: 25 | H60: 0
A61: 68 | B61: 32 | C61: zhongji shipin | D61: 13370026 | E61: 6 | F61: 1 | G61: 150 | H61: 0
A62: 69 | B62: 32 | C62: zhongji shipin | D62: 1337001a | E62: 7 | F62: 1 | G62: 800 | H62: 0
A63: 70 | B63: 32 | C63: zhongji shipin | D63: 1331002b | E63: 8 | F63: 1 | G63: 5 | H63: 0
A64: 71 | B64: 32 | C64: zhongji shipin | D64: 13310038 | E64: 9 | F64: 1 | G64: 25 | H64: 0
A65: 72 | B65: 32 | C65: zhongji shipin | D65: 1331005d | E65: 10 | F65: 1 | G65: 150 | H65: 0
A66: 73 | B66: 32 | C66: zhongji shipin | D66: 13310048 | E66: 11 | F66: 1 | G66: 800 | H66: 0
A67: 74 | B67: 32 | C67: zhongji shipin | D67: 1334001e | E67: 12 | F67: 1 | G67: 5 | H67: 0
A68: 75 | B68: 32 | C68: zhongji shipin | D68: 1334002d | E68: 13 | F68: 1 | G68: 25 | H68: 0
A69: 76 | B69: 32 | C69: zhongji shipin | D69: 1334004a | E69: 14 | F69: 1 | G69: 150 | H69: 0
A70: 77 | B70: 32 | C70: zhongji shipin | D70: 1334001a | E70: 15 | F70: 1 | G70: 800 | H70: 0
A71: 78 | B71: 32 | C71: zhongji shipin | D71: 1335002a | E71: 16 | F71: 1 | G71: 5 | H71: 0
A72: 79 | B72: 32 | C72: zhongji shipin | D72: 1335002b | E72: 17 | F72: 1 | G72: 25 | H72: 0
A73: 80 | B73: 32 | C73: zhongji shipin | D73: 1335002e | E73: 18 | F73: 1 | G73: 150 | H73: 0
A74: 81 | B74: 32 | C74: zhongji shipin | D74: 13350028 | E74: 19 | F74: 1 | G74: 800 | H74: 0
A75: 82 | B75: 32 | C75: zhongji shipin | D75: 1338001d | E75: 20 | F75: 1 | G75: 5 | H75: 0
A76: 83 | B76: 32 | C76: zhongji shipin | D76: 1338001b | E76: 21 | F76: 1 | G76: 25 | H76: 0
A77: 84 | B77: 32 | C77: zhongji shipin | D77: 1338001e | E77: 22 | F77: 1 | G77: 150 | H77: 0
A78: 85 | B78: 32 | C78: zhongji shipin | D78: 13380016 | E78: 23 | F78: 1 | G78: 800 | H78: 0
A79: 86 | B79: 41 | C79: zhengrong | D79: 3320001b | E79: 110000 | F79: 1 | G79: 500 | H79: 0
A80: 87 | B80: 41 | C80: zhengrong | D80: 33200013 | E80: 110001 | F80: 1 | G80: 500 | H80: 0
A81: 88 | B81: 41 | C81: zhengrong | D81: 3320002d | E81: 110002 | F81: 1 | G81: 500 | H81: 0
A82: 89 | B82: 41 | C82: zhengrong | D82: 33200015 | E82: 110003 | F82: 1 | G82: 500 | H82: 0
A83: 90 | B83: 41 | C83: zhengrong | D83: 33200016 | E83: 110004 | F83: 1 | G83: 500 | H83: 0
A84: 91 | B84: 41 | C84: zhengrong | D84: 33200017 | E84: 110005 | F84: 1 | G84: 500 | H84: 0
A85: 92 | B85: 41 | C85: zhengrong | D85: 33200018 | E85: 110006 | F85: 1 | G85: 500 | H85: 0
A86: 93 | B86: 41 | C86: zhengrong | D86: 33200019 | E86: 110007 | F86: 1 | G86: 500 | H86: 0
A87: 94 | B87: 41 | C87: zhengrong | D87: 3320001a | E87: 110008 | F87: 1 | G87: 500 | H87: 0
A88: 95 | B88: 41 | C88: zhengrong | D88: 3320001e | E88: 110009 | F88: 1 | G88: 500 | H88: 0
A89: 96 | B89: 41 | C89: zhengrong | D89: 33200034 | E89: 110010 | F89: 1 | G89: 500 | H89: 0
A90: 97 | B90: 41 | C90: zhengrong | D90: 3320003e | E90: 110011 | F90: 1 | G90: 500 | H90: 0
A91: 98 | B91: 41 | C91: zhengrong | D91: 33200036 | E91: 110012 | F91: 1 | G91: 500 | H91: 0
A92: 99 | B92: 41 | C92: zhengrong | D92: 33200037 | E92: 110013 | F92: 1 | G92: 500 | H92: 0
A93: 100 | B93: 41 | C93: zhengrong | D93: 33200038 | E93: 110014 | F93: 1 | G93: 500 | H93: 0
A94: 101 | B94: 41 | C94: zhengrong | D94: 33200039 | E94: 110015 | F94: 1 | G94: 500 | H94: 0
A95: 102 | B95: 41 | C95: zhengrong | D95: 3320003a | E95: 110016 | F95: 1 | G95: 500 | H95: 0
A96: 103 | B96: 41 | C96: zhengrong | D96: 3320003b | E96: 110017 | F96: 1 | G96: 500 | H96: 0
A97: 104 | B97: 41 | C97: zhengrong | D97: 33200033 | E97: 110018 | F97: 1 | G97: 500 | H97: 0
A98: 105 | B98: 41 | C98: zhengrong | D98: 33200044 | E98: 110019 | F98: 1 | G98: 500 | H98: 0
A99: 106 | B99: 41 | C99: zhengrong | D99: 3320004e | E99: 110020 | F99: 1 | G99: 500 | H99: 0
A100: 107 | B100: 41 | C100: zhengrong | D100: 33200046 | E100: 110021 | F100: 1 | G100: 500 | H100: 0
A101: 108 | B101: 41 | C101: zhengrong | D101: 33200047 | E101: 110022 | F101: 1 | G101: 500 | H101: 0
...

Sheet Sheet2
A1: 物品ID | B1: 改名 | C1: 银豆价格 | D1: 游戏币卖价 | E1: 冷却时间 | F1: 触发技能ID | G1: 需求称号 | H1: 位置 | I1: 需求荣誉值 | J1: 是否可交易
A2: itemid | C2: buyprice | D2: sellprice | E2: cd | F2: skillid | G2: reqtitle | H2: location | I2: reqhonour | J2: trade
A3: 13430001 | B3: 神秘手套 | C3: 0 | D3: 1 | E3: 0 | F3: 0 | G3: 0 | H3: 1 | I3: 0 | J3: 1
A4: 13490001 | B4: 神秘内衣 | C4: 0 | D4: 1 | E4: 0 | F4: 0 | G4: 0 | H4: 1 | I4: 0 | J4: 1
A5: 134a0001 | B5: 神秘袜子 | C5: 0 | D5: 1 | E5: 0 | F5: 0 | G5: 0 | H5: 1 | I5: 0 | J5: 1
A6: 13460001 | B6: 神秘耳环 | C6: 0 | D6: 1 | E6: 0 | F6: 0 | G6: 0 | H6: 1 | I6: 0 | J6: 1
A7: 13470001 | B7: 神秘护符 | C7: 0 | D7: 1 | E7: 0 | F7: 0 | G7: 0 | H7: 1 | I7: 0 | J7: 1
A8: 13410001 | B8: 神秘项链 | C8: 0 | D8: 1 | E8: 0 | F8: 0 | G8: 0 | H8: 1 | I8: 0 | J8: 1
A9: 13420001 | B9: 神秘腰带 | C9: 0 | D9: 1 | E9: 0 | F9: 0 | G9: 0 | H9: 1 | I9: 0 | J9: 1
A10: 13440001 | B10: 神秘眼镜 | C10: 0 | D10: 1 | E10: 0 | F10: 0 | G10: 0 | H10: 1 | I10: 0 | J10: 1
A11: 13450001 | B11: 神秘头饰 | C11: 0 | D11: 1 | E11: 0 | F11: 0 | G11: 0 | H11: 1 | I11: 0 | J11: 1
A12: 13480001 | B12: 神秘尾巴 | C12: 0 | D12: 1 | E12: 0 | F12: 0 | G12: 0 | H12: 1 | I12: 0 | J12: 1
A13: 1133002a | B13: 深红手套 | C13: 5 | D13: 1 | E13: 0 | F13: 0 | G13: 0 | H13: 1 | I13: 0 | J13: 0
A14: 1133002b | B14: 阳光手套 | C14: 25 | D14: 1 | E14: 0 | F14: 0 | G14: 0 | H14: 1 | I14: 0 | J14: 1
A15: 11330024 | B15: 水晶手套 | C15: 150 | D15: 1 | E15: 0 | F15: 0 | G15: 0 | H15: 1 | I15: 0 | J15: 1
A16: 11330038 | B16: 流星手套 | C16: 800 | D16: 1 | E16: 0 | F16: 0 | G16: 0 | H16: 1 | I16: 0 | J16: 1
A17: 1133003b | B17: 大地手套 | C17: 2600 | D17: 1 | E17: 0 | F17: 0 | G17: 0 | H17: 1 | I17: 0 | J17: 1
A18: 11330036 | B18: 生命手套 | C18: 7200 | D18: 1 | E18: 0 | F18: 0 | G18: 0 | H18: 1 | I18: 0 | J18: 1
A19: 1110002a | B19: 深红背心 | C19: 5 | D19: 1 | E19: 0 | F19: 0 | G19: 0 | H19: 1 | I19: 0 | J19: 0
A20: 1110008b | B20: 阳光T恤 | C20: 25 | D20: 1 | E20: 0 | F20: 0 | G20: 0 | H20: 1 | I20: 0 | J20: 1
A21: 11100104 | B21: 水晶上衣 | C21: 150 | D21: 1 | E21: 0 | F21: 0 | G21: 0 | H21: 1 | I21: 0 | J21: 1
A22: 11100118 | B22: 流星上衣 | C22: 800 | D22: 1 | E22: 0 | F22: 0 | G22: 0 | H22: 1 | I22: 0 | J22: 1
A23: 11100087 | B23: 大地上衣 | C23: 2600 | D23: 1 | E23: 0 | F23: 0 | G23: 0 | H23: 1 | I23: 0 | J23: 1
A24: 11100096 | B24: 生命上衣 | C24: 7200 | D24: 1 | E24: 0 | F24: 0 | G24: 0 | H24: 1 | I24: 0 | J24: 1
A25: 1128001a | B25: 深红袜子 | C25: 5 | D25: 1 | E25: 0 | F25: 0 | G25: 0 | H25: 1 | I25: 0 | J25: 0
A26: 1128001c | B26: 阳光袜子 | C26: 25 | D26: 1 | E26: 0 | F26: 0 | G26: 0 | H26: 1 | I26: 0 | J26: 1
A27: 1128001e | B27: 水晶袜子 | C27: 150 | D27: 1 | E27: 0 | F27: 0 | G27: 0 | H27: 1 | I27: 0 | J27: 1
A28: 11200012 | B28: 流星袜子 | C28: 800 | D28: 1 | E28: 0 | F28: 0 | G28: 0 | H28: 1 | I28: 0 | J28: 1
A29: 1128001b | B29: 大地袜子 | C29: 2600 | D29: 1 | E29: 0 | F29: 0 | G29: 0 | H29: 1 | I29: 0 | J29: 1
A30: 11200016 | B30: 生命袜子 | C30: 7200 | D30: 1 | E30: 0 | F30: 0 | G30: 0 | H30: 1 | I30: 0 | J30: 1
A31: 13360011 | B31: 白银耳环 | C31: 5 | D31: 1 | E31: 0 | F31: 0 | G31: 0 | H31: 1 | I31: 0 | J31: 0
A32: 13360012 | B32: 黄金耳环 | C32: 25 | D32: 1 | E32: 0 | F32: 0 | G32: 0 | H32: 1 | I32: 0 | J32: 1
A33: 13360013 | B33: 星星耳环 | C33: 150 | D33: 1 | E33: 0 | F33: 0 | G33: 0 | H33: 1 | I33: 0 | J33: 1
A34: 13360014 | B34: 红宝石耳环 | C34: 800 | D34: 1 | E34: 0 | F34: 0 | G34: 0 | H34: 1 | I34: 0 | J34: 1
A35: 13360015 | B35: 陨石耳环 | C35: 2600 | D35: 1 | E35: 0 | F35: 0 | G35: 0 | H35: 1 | I35: 0 | J35: 1
A36: 13360016 | B36: 月牙耳环 | C36: 7200 | D36: 1 | E36: 0 | F36: 0 | G36: 0 | H36: 1 | I36: 0 | J36: 1
A37: 1337002a | B37: 红水晶护符 | C37: 5 | D37: 1 | E37: 0 | F37: 0 | G37: 0 | H37: 1 | I37: 0 | J37: 0
A38: 13370025 | B38: 蓝水晶护符 | C38: 25 | D38: 1 | E38: 0 | F38: 0 | G38: 0 | H38: 1 | I38: 0 | J38: 1
A39: 13370026 | B39: 绿水晶护符 | C39: 150 | D39: 1 | E39: 0 | F39: 0 | G39: 0 | H39: 1 | I39: 0 | J39: 1
A40: 1337001a | B40: 紫水晶护符 | C40: 800 | D40: 1 | E40: 0 | F40: 0 | G40: 0 | H40: 1 | I40: 0 | J40: 1
A41: 1337001b | B41: 红宝石护符 | C41: 2600 | D41: 1 | E41: 0 | F41: 0 | G41: 0 | H41: 1 | I41: 0 | J41: 1
A42: 1337001c | B42: 黄宝石护符 | C42: 7200 | D42: 1 | E42: 0 | F42: 0 | G42: 0 | H42: 1 | I42: 0 | J42: 1
A43: 1331002b | B43: 幸运项链 | C43: 5 | D43: 1 | E43: 0 | F43: 0 | G43: 0 | H43: 1 | I43: 0 | J43: 0
A44: 13310038 | B44: 可人挂饰 | C44: 25 | D44: 1 | E44: 0 | F44: 0 | G44: 0 | H44: 1 | I44: 0 | J44: 1
A45: 1331005d | B45: 星星吊坠 | C45: 150 | D45: 1 | E45: 0 | F45: 0 | G45: 0 | H45: 1 | I45: 0 | J45: 1
A46: 13310048 | B46: 红宝石吊坠 | C46: 800 | D46: 1 | E46: 0 | F46: 0 | G46: 0 | H46: 1 | I46: 0 | J46: 1
A47: 13310086 | B47: 珍珠之恋 | C47: 2600 | D47: 1 | E47: 0 | F47: 0 | G47: 0 | H47: 1 | I47: 0 | J47: 1
A48: 13310068 | B48: 五彩项链 | C48: 7200 | D48: 1 | E48: 0 | F48: 0 | G48: 0 | H48: 1 | I48: 0 | J48: 1
A49: 11320028 | B49: 深红腰带 | C49: 5 | D49: 1 | E49: 0 | F49: 0 | G49: 0 | H49: 1 | I49: 0 | J49: 0
A50: 1132002c | B50: 阳光腰带 | C50: 25 | D50: 1 | E50: 0 | F50: 0 | G50: 0 | H50: 1 | I50: 0 | J50: 1
A51: 11320025 | B51: 水晶腰带 | C51: 150 | D51: 1 | E51: 0 | F51: 0 | G51: 0 | H51: 1 | I51: 0 | J51: 1
A52: 1132002a | B52: 流星腰带 | C52: 800 | D52: 1 | E52: 0 | F52: 0 | G52: 0 | H52: 1 | I52: 0 | J52: 1
A53: 1132001d | B53: 大地腰带 | C53: 2600 | D53: 1 | E53: 0 | F53: 0 | G53: 0 | H53: 1 | I53: 0 | J53: 1
A54: 11320016 | B54: 生命腰带 | C54: 7200 | D54: 1 | E54: 0 | F54: 0 | G54: 0 | H54: 1 | I54: 0 | J54: 1
A55: 1334001e | B55: 蓝光眼镜 | C55: 5 | D55: 1 | E55: 0 | F55: 0 | G55: 0 | H55: 1 | I55: 0 | J55: 0
A56: 1334002d | B56: 酷黑眼睛 | C56: 25 | D56: 1 | E56: 0 | F56: 0 | G56: 0 | H56: 1 | I56: 0 | J56: 1
A57: 1334004a | B57: 情人眼镜 | C57: 150 | D57: 1 | E57: 0 | F57: 0 | G57: 0 | H57: 1 | I57: 0 | J57: 1
A58: 1334001a | B58: 翡翠眼镜 | C58: 800 | D58: 1 | E58: 0 | F58: 0 | G58: 0 | H58: 1 | I58: 0 | J58: 1
A59: 13340064 | B59: 合金眼镜 | C59: 2600 | D59: 1 | E59: 0 | F59: 0 | G59: 0 | H59: 1 | I59: 0 | J59: 1
A60: 13340068 | B60: 红宝石眼睛 | C60: 7200 | D60: 1 | E60: 0 | F60: 0 | G60: 0 | H60: 1 | I60: 0 | J60: 1
A61: 1335002a | B61: 小野猫耳朵 | C61: 5 | D61: 1 | E61: 0 | F61: 0 | G61: 0 | H61: 1 | I61: 0 | J61: 0
A62: 1335002b | B62: 灵猫耳朵 | C62: 25 | D62: 1 | E62: 0 | F62: 0 | G62: 0 | H62: 1 | I62: 0 | J62: 1
A63: 1335002e | B63: 蓝猫耳朵 | C63: 150 | D63: 1 | E63: 0 | F63: 0 | G63: 0 | H63: 1 | I63: 0 | J63: 1
A64: 13350028 | B64: 粉红猫耳 | C64: 800 | D64: 1 | E64: 0 | F64: 0 | G64: 0 | H64: 1 | I64: 0 | J64: 1
A65: 1335001d | B65: 陨石发带 | C65: 2600 | D65: 1 | E65: 0 | F65: 0 | G65: 0 | H65: 1 | I65: 0 | J65: 1
A66: 1335001a | B66: 星际发带 | C66: 7200 | D66: 1 | E66: 0 | F66: 0 | G66: 0 | H66: 1 | I66: 0 | J66: 1
A67: 1338001d | B67: 深红猫尾 | C67: 5 | D67: 1 | E67: 0 | F67: 0 | G67: 0 | H67: 1 | I67: 0 | J67: 0
A68: 1338001b | B68: 阳光尾巴 | C68: 25 | D68: 1 | E68: 0 | F68: 0 | G68: 0 | H68: 1 | I68: 0 | J68: 1
A69: 1338001e | B69: 海洋猫尾 | C69: 150 | D69: 1 | E69: 0 | F69: 0 | G69: 0 | H69: 1 | I69: 0 | J69: 1
A70: 13380016 | B70: 蓝猫尾巴 | C70: 800 | D70: 1 | E70: 0 | F70: 0 | G70: 0 | H70: 1 | I70: 0 | J70: 1
A71: 13380018 | B71: 粉红猫尾 | C71: 2600 | D71: 1 | E71: 0 | F71: 0 | G71: 0 | H71: 1 | I71: 0 | J71: 1
A72: 13380017 | B72: 紫色猫尾 | C72: 7200 | D72: 1 | E72: 0 | F72: 0 | G72: 0 | H72: 1 | I72: 0 | J72: 1
A73: 1133003c | B73: 帅哥手套 | C73: 0 | D73: 1 | E73: 0 | F73: 0 | G73: 0 | H73: 1 | I73: 0 | J73: 0
A74: 1110002d | B74: 帅哥背心 | C74: 0 | D74: 1 | E74: 0 | F74: 0 | G74: 0 | H74: 1 | I74: 0 | J74: 0
A75: 1120001d | B75: 帅哥袜子 | C75: 0 | D75: 1 | E75: 0 | F75: 0 | G75: 0 | H75: 1 | I75: 0 | J75: 0
A76: 13360017 | B76: 哈皮耳环 | C76: 0 | D76: 1 | E76: 0 | F76: 0 | G76: 0 | H76: 1 | I76: 0 | J76: 0
A77: 1337002b | B77: 哈皮护符 | C77: 0 | D77: 1 | E77: 0 | F77: 0 | G77: 0 | H77: 1 | I77: 0 | J77: 0
A78: 1331002d | B78: 哈皮项链 | C78: 0 | D78: 1 | E78: 0 | F78: 0 | G78: 0 | H78: 1 | I78: 0 | J78: 0
A79: 1132001c | B79: 帅哥腰带 | C79: 0 | D79: 1 | E79: 0 | F79: 0 | G79: 0 | H79: 1 | I79: 0 | J79: 0
A80: 1334001c | B80: 哈皮眼镜 | C80: 0 | D80: 1 | E80: 0 | F80: 0 | G80: 0 | H80: 1 | I80: 0 | J80: 0
A81: 1335002d | B81: 哈皮猫耳 | C81: 0 | D81: 1 | E81: 0 | F81: 0 | G81: 0 | H81: 1 | I81: 0 | J81: 0
A82: 13380019 | B82: 哈皮尾巴 | C82: 0 | D82: 1 | E82: 0 | F82: 0 | G82: 0 | H82: 1 | I82: 0 | J82: 0
A83: 12330015 | B83: 冰蓝护手 | C83: 5 | D83: 1 | E83: 0 | F83: 0 | G83: 0 | H83: 1 | I83: 0 | J83: 0
A84: 1233001a | B84: 火红护手 | C84: 25 | D84: 1 | E84: 0 | F84: 0 | G84: 0 | H84: 1 | I84: 0 | J84: 1
A85: 12330024 | B85: 猫猫手套 | C85: 150 | D85: 1 | E85: 0 | F85: 0 | G85: 0 | H85: 1 | I85: 0 | J85: 1
A86: 12330028 | B86: 粉红手套 | C86: 800 | D86: 1 | E86: 0 | F86: 0 | G86: 0 | H86: 1 | I86: 0 | J86: 1
A87: 12330039 | B87: 紫罗兰手套 | C87: 2600 | D87: 1 | E87: 0 | F87: 0 | G87: 0 | H87: 1 | I87: 0 | J87: 1
A88: 12330034 | B88: 天空手套 | C88: 7200 | D88: 1 | E88: 0 | F88: 0 | G88: 0 | H88: 1 | I88: 0 | J88: 1
A89: 12100161 | B89: 医生制服 | C89: 5 | D89: 1 | E89: 0 | F89: 0 | G89: 0 | H89: 1 | I89: 0 | J89: 0
A90: 1210009b | B90: 淑女上衣 | C90: 25 | D90: 1 | E90: 0 | F90: 0 | G90: 0 | H90: 1 | I90: 0 | J90: 1
A91: 121000c3 | B91: 高贵上衣 | C91: 150 | D91: 1 | E91: 0 | F91: 0 | G91: 0 | H91: 1 | I91: 0 | J91: 1
A92: 1210002a | B92: 甜蜜公主裙 | C92: 800 | D92: 1 | E92: 0 | F92: 0 | G92: 0 | H92: 1 | I92: 0 | J92: 1
A93: 12100189 | B93: 紫罗兰连衣裙 | C93: 2600 | D93: 1 | E93: 0 | F93: 0 | G93: 0 | H93: 1 | I93: 0 | J93: 1
A94: 1210017e | B94: 天空上衣 | C94: 7200 | D94: 1 | E94: 0 | F94: 0 | G94: 0 | H94: 1 | I94: 0 | J94: 1
A95: 12200017 | B95: 猫猫布袜 | C95: 5 | D95: 1 | E95: 0 | F95: 0 | G95: 0 | H95: 1 | I95: 0 | J95: 0
A96: 1228001a | B96: 怪盗女袜 | C96: 25 | D96: 1 | E96: 0 | F96: 0 | G96: 0 | H96: 1 | I96: 0 | J96: 1
A97: 1228004d | B97: 经典女袜 | C97: 150 | D97: 1 | E97: 0 | F97: 0 | G97: 0 | H97: 1 | I97: 0 | J97: 1
A98: 1228005d | B98: 白色丝袜 | C98: 800 | D98: 1 | E98: 0 | F98: 0 | G98: 0 | H98: 1 | I98: 0 | J98: 1
A99: 1228002a | B99: 光环长袜 | C99: 2600 | D99: 1 | E99: 0 | F99: 0 | G99: 0 | H99: 1 | I99: 0 | J99: 1
A100: 1228003b | B100: 光明长袜 | C100: 7200 | D100: 1 | E100: 0 | F100: 0 | G100: 0 | H100: 1 | I100: 0 | J100: 1
...
