Workbook

Sheet Sheet1
A1: 商店类型ID | B1: 商店ID | C1: shop name | D1: 出售npc | E1: 商店功能 | F1: 商品编号 | G1: 商品名称 | H1: 商品性别 | I1: 商品类型 | J1: 商品序号 | K1: 单格数量 | L1: 单价 | M1: 总价
A2: 5 | B2: 11 | C2: xinshou yaodian | D2: 新手药品商人 | E2: 新手药店 | F2: 53100010 | G2: 活力苏打（小） | H2: 通用 | I2: 药品 | J2: 0 | K2: 1 | L2: =VLOOKUP(F2,Sheet2!A:C,3,FALSE) -> 70
A3: 5 | B3: 11 | C3: xinshou yaodian | D3: 新手药品商人 | E3: 新手药店 | F3: 53200010 | G3: 能量汽水（小） | H3: 通用 | I3: 药品 | J3: 1 | K3: 1 | L3: =VLOOKUP(F3,Sheet2!A:C,3,FALSE) -> 70
A4: 1 | B4: 21 | C4: xinshou zhuangbei | D4: 新手装备商人 | E4: 新手装备店 | F4: 1133002a | G4: 深红手套 | H4: 男 | I4: 手套 | J4: 120000 | K4: 1 | L4: =VLOOKUP(F4,Sheet2!A:C,3,FALSE) -> 5
A5: 1 | B5: 21 | C5: xinshou zhuangbei | D5: 新手装备商人 | E5: 新手装备店 | F5: 1110002a | G5: 深红背心 | H5: 男 | I5: 内衣 | J5: 110000 | K5: 1 | L5: =VLOOKUP(F5,Sheet2!A:C,3,FALSE) -> 5
A6: 1 | B6: 21 | C6: xinshou zhuangbei | D6: 新手装备商人 | E6: 新手装备店 | F6: 1128001a | G6: 深红袜子 | H6: 男 | I6: 袜子 | J6: 140000 | K6: 1 | L6: =VLOOKUP(F6,Sheet2!A:C,3,FALSE) -> 5
A7: 1 | B7: 21 | C7: xinshou zhuangbei | D7: 新手装备商人 | E7: 新手装备店 | F7: 11320028 | G7: 深红腰带 | H7: 男 | I7: 腰带 | J7: 130000 | K7: 1 | L7: =VLOOKUP(F7,Sheet2!A:C,3,FALSE) -> 5
A8: 1 | B8: 21 | C8: xinshou zhuangbei | D8: 新手装备商人 | E8: 新手装备店 | F8: 12330015 | G8: 冰蓝护手 | H8: 女 | I8: 手套 | J8: 220000 | K8: 1 | L8: =VLOOKUP(F8,Sheet2!A:C,3,FALSE) -> 5
A9: 1 | B9: 21 | C9: xinshou zhuangbei | D9: 新手装备商人 | E9: 新手装备店 | F9: 12100161 | G9: 医生制服 | H9: 女 | I9: 内衣 | J9: 210000 | K9: 1 | L9: =VLOOKUP(F9,Sheet2!A:C,3,FALSE) -> 5
A10: 1 | B10: 21 | C10: xinshou zhuangbei | D10: 新手装备商人 | E10: 新手装备店 | F10: 12200017 | G10: 猫猫布袜 | H10: 女 | I10: 袜子 | J10: 240000 | K10: 1 | L10: =VLOOKUP(F10,Sheet2!A:C,3,FALSE) -> 5
A11: 1 | B11: 21 | C11: xinshou zhuangbei | D11: 新手装备商人 | E11: 新手装备店 | F11: 1232001b | G11: 猫猫腰带 | H11: 女 | I11: 腰带 | J11: 230000 | K11: 1 | L11: =VLOOKUP(F11,Sheet2!A:C,3,FALSE) -> 5
A12: 4 | B12: 31 | C12: xinshou shipin | D12: 新手饰品商人 | E12: 新手饰品店 | F12: 13360011 | G12: 白银耳环 | H12: 通用 | I12: 耳环 | J12: 0 | K12: 1 | L12: =VLOOKUP(F12,Sheet2!A:C,3,FALSE) -> 5
A13: 4 | B13: 31 | C13: xinshou shipin | D13: 新手饰品商人 | E13: 新手饰品店 | F13: 1337002a | G13: 红水晶护符 | H13: 通用 | I13: 内项链 | J13: 1 | K13: 1 | L13: =VLOOKUP(F13,Sheet2!A:C,3,FALSE) -> 5
A14: 4 | B14: 31 | C14: xinshou shipin | D14: 新手饰品商人 | E14: 新手饰品店 | F14: 1331002b | G14: 幸运项链 | H14: 通用 | I14: 外项链 | J14: 2 | K14: 1 | L14: =VLOOKUP(F14,Sheet2!A:C,3,FALSE) -> 5
A15: 4 | B15: 31 | C15: xinshou shipin | D15: 新手饰品商人 | E15: 新手饰品店 | F15: 1334001e | G15: 蓝光眼镜 | H15: 通用 | I15: 眼镜 | J15: 3 | K15: 1 | L15: =VLOOKUP(F15,Sheet2!A:C,3,FALSE) -> 5
A16: 4 | B16: 31 | C16: xinshou shipin | D16: 新手饰品商人 | E16: 新手饰品店 | F16: 1335002a | G16: 小野猫耳朵 | H16: 通用 | I16: 头饰 | J16: 4 | K16: 1 | L16: =VLOOKUP(F16,Sheet2!A:C,3,FALSE) -> 5
A17: 4 | B17: 31 | C17: xinshou shipin | D17: 新手饰品商人 | E17: 新手饰品店 | F17: 1338001d | G17: 深红猫尾 | H17: 通用 | I17: 尾巴 | J17: 5 | K17: 1 | L17: =VLOOKUP(F17,Sheet2!A:C,3,FALSE) -> 5
A18: 5 | B18: 12 | C18: gaoji yaopin | D18: 药品商人（世博城） | E18: 高级药品店 | F18: 53100010 | G18: 活力苏打（小） | H18: 通用 | I18: 药品 | J18: 0 | K18: 1 | L18: =VLOOKUP(F18,Sheet2!A:C,3,FALSE) -> 70
A19: 5 | B19: 12 | C19: gaoji yaopin | D19: 药品商人（世博城） | E19: 高级药品店 | F19: 53100020 | G19: 活力苏打（中） | H19: 通用 | I19: 药品 | J19: 1 | K19: 1 | L19: =VLOOKUP(F19,Sheet2!A:C,3,FALSE) -> 120
A20: 5 | B20: 12 | C20: gaoji yaopin | D20: 药品商人（世博城） | E20: 高级药品店 | F20: 53200010 | G20: 能量汽水（小） | H20: 通用 | I20: 药品 | J20: 2 | K20: 1 | L20: =VLOOKUP(F20,Sheet2!A:C,3,FALSE) -> 70
A21: 5 | B21: 12 | C21: gaoji yaopin | D21: 药品商人（世博城） | E21: 高级药品店 | F21: 53200020 | G21: 能量汽水（中） | H21: 通用 | I21: 药品 | J21: 3 | K21: 1 | L21: =VLOOKUP(F21,Sheet2!A:C,3,FALSE) -> 120
A22: 5 | B22: 12 | C22: gaoji yaopin | D22: 药品商人（世博城） | E22: 高级药品店 | F22: 23200410 | G22: 黑背鱼 | H22: 通用 | I22: 药品 | J22: 4 | K22: 1 | L22: =VLOOKUP(F22,Sheet2!A:C,3,FALSE) -> 50
A23: 5 | B23: 12 | C23: gaoji yaopin | D23: 药品商人（世博城） | E23: 高级药品店 | F23: 23200430 | G23: 小红鱼 | H23: 通用 | I23: 药品 | J23: 5 | K23: 1 | L23: =VLOOKUP(F23,Sheet2!A:C,3,FALSE) -> 100
A24: 5 | B24: 12 | C24: gaoji yaopin | D24: 药品商人（世博城） | E24: 高级药品店 | F24: 23200450 | G24: 鲈鱼 | H24: 通用 | I24: 药品 | J24: 6 | K24: 1 | L24: =VLOOKUP(F24,Sheet2!A:C,3,FALSE) -> 150
A25: 5 | B25: 12 | C25: gaoji yaopin | D25: 药品商人（世博城） | E25: 高级药品店 | F25: 23200420 | G25: 白磷 | H25: 通用 | I25: 药品 | J25: 7 | K25: 1 | L25: =VLOOKUP(F25,Sheet2!A:C,3,FALSE) -> 50
A26: 5 | B26: 12 | C26: gaoji yaopin | D26: 药品商人（世博城） | E26: 高级药品店 | F26: 23200440 | G26: 珍珠斑 | H26: 通用 | I26: 药品 | J26: 8 | K26: 1 | L26: =VLOOKUP(F26,Sheet2!A:C,3,FALSE) -> 100
A27: 5 | B27: 12 | C27: gaoji yaopin | D27: 药品商人（世博城） | E27: 高级药品店 | F27: 23200460 | G27: 石斑 | H27: 通用 | I27: 药品 | J27: 9 | K27: 1 | L27: =VLOOKUP(F27,Sheet2!A:C,3,FALSE) -> 150
A28: 5 | B28: 12 | C28: gaoji yaopin | D28: 药品商人（世博城） | E28: 高级药品店 | F28: 23530100 | G28: 治愈卡 | H28: 通用 | I28: 药品 | J28: 10 | K28: 1 | L28: =VLOOKUP(F28,Sheet2!A:C,3,FALSE) -> 500
A29: 1 | B29: 22 | C29: zhongji zhuangbei | D29: 装备商人（世博城） | E29: 中级装备店 | F29: 1133002a | G29: 深红手套 | H29: 男 | I29: 手套 | J29: 120000 | K29: 1 | L29: =VLOOKUP(F29,Sheet2!A:C,3,FALSE) -> 5
A30: 1 | B30: 22 | C30: zhongji zhuangbei | D30: 装备商人（世博城） | E30: 中级装备店 | F30: 1133002b | G30: 阳光手套 | H30: 男 | I30: 手套 | J30: 120001 | K30: 1 | L30: =VLOOKUP(F30,Sheet2!A:C,3,FALSE) -> 25
A31: 1 | B31: 22 | C31: zhongji zhuangbei | D31: 装备商人（世博城） | E31: 中级装备店 | F31: 11330024 | G31: 水晶手套 | H31: 男 | I31: 手套 | J31: 120002 | K31: 1 | L31: =VLOOKUP(F31,Sheet2!A:C,3,FALSE) -> 150
A32: 1 | B32: 22 | C32: zhongji zhuangbei | D32: 装备商人（世博城） | E32: 中级装备店 | F32: 11330038 | G32: 流星手套 | H32: 男 | I32: 手套 | J32: 120003 | K32: 1 | L32: =VLOOKUP(F32,Sheet2!A:C,3,FALSE) -> 800
A33: 1 | B33: 22 | C33: zhongji zhuangbei | D33: 装备商人（世博城） | E33: 中级装备店 | F33: 1110002a | G33: 深红背心 | H33: 男 | I33: 内衣 | J33: 110000 | K33: 1 | L33: =VLOOKUP(F33,Sheet2!A:C,3,FALSE) -> 5
A34: 1 | B34: 22 | C34: zhongji zhuangbei | D34: 装备商人（世博城） | E34: 中级装备店 | F34: 1110008b | G34: 阳光T恤 | H34: 男 | I34: 内衣 | J34: 110001 | K34: 1 | L34: =VLOOKUP(F34,Sheet2!A:C,3,FALSE) -> 25
A35: 1 | B35: 22 | C35: zhongji zhuangbei | D35: 装备商人（世博城） | E35: 中级装备店 | F35: 11100104 | G35: 水晶上衣 | H35: 男 | I35: 内衣 | J35: 110002 | K35: 1 | L35: =VLOOKUP(F35,Sheet2!A:C,3,FALSE) -> 150
A36: 1 | B36: 22 | C36: zhongji zhuangbei | D36: 装备商人（世博城） | E36: 中级装备店 | F36: 11100118 | G36: 流星上衣 | H36: 男 | I36: 内衣 | J36: 110003 | K36: 1 | L36: =VLOOKUP(F36,Sheet2!A:C,3,FALSE) -> 800
A37: 1 | B37: 22 | C37: zhongji zhuangbei | D37: 装备商人（世博城） | E37: 中级装备店 | F37: 1128001a | G37: 深红袜子 | H37: 男 | I37: 袜子 | J37: 140000 | K37: 1 | L37: =VLOOKUP(F37,Sheet2!A:C,3,FALSE) -> 5
A38: 1 | B38: 22 | C38: zhongji zhuangbei | D38: 装备商人（世博城） | E38: 中级装备店 | F38: 1128001c | G38: 阳光袜子 | H38: 男 | I38: 袜子 | J38: 140001 | K38: 1 | L38: =VLOOKUP(F38,Sheet2!A:C,3,FALSE) -> 25
A39: 1 | B39: 22 | C39: zhongji zhuangbei | D39: 装备商人（世博城） | E39: 中级装备店 | F39: 1128001e | G39: 水晶袜子 | H39: 男 | I39: 袜子 | J39: 140002 | K39: 1 | L39: =VLOOKUP(F39,Sheet2!A:C,3,FALSE) -> 150
A40: 1 | B40: 22 | C40: zhongji zhuangbei | D40: 装备商人（世博城） | E40: 中级装备店 | F40: 11200012 | G40: 流星袜子 | H40: 男 | I40: 袜子 | J40: 140003 | K40: 1 | L40: =VLOOKUP(F40,Sheet2!A:C,3,FALSE) -> 800
...

Sheet 商城数据库
A1: ID | B1: shop id | C1: shop name | D1: itemid | E1: cellid | F1: gridnum | G1: buyprice
A2: 5 | B2: 11 | C2: xinshou yaodian | D2: 53100010 | E2: 0 | F2: 1 | G2: 70
A3: 5 | B3: 11 | C3: xinshou yaodian | D3: 53200010 | E3: 1 | F3: 1 | G3: 70
A4: 1 | B4: 21 | C4: xinshou zhuangbei | D4: 1133002a | E4: 120000 | F4: 1 | G4: 5
A5: 1 | B5: 21 | C5: xinshou zhuangbei | D5: 1110002a | E5: 110000 | F5: 1 | G5: 5
A6: 1 | B6: 21 | C6: xinshou zhuangbei | D6: 1128001a | E6: 140000 | F6: 1 | G6: 5
A7: 1 | B7: 21 | C7: xinshou zhuangbei | D7: 11320028 | E7: 130000 | F7: 1 | G7: 5
A8: 1 | B8: 21 | C8: xinshou zhuangbei | D8: 12330015 | E8: 220000 | F8: 1 | G8: 5
A9: 1 | B9: 21 | C9: xinshou zhuangbei | D9: 12100161 | E9: 210000 | F9: 1 | G9: 5
A10: 1 | B10: 21 | C10: xinshou zhuangbei | D10: 12200017 | E10: 240000 | F10: 1 | G10: 5
A11: 1 | B11: 21 | C11: xinshou zhuangbei | D11: 1232001b | E11: 230000 | F11: 1 | G11: 5
A12: 4 | B12: 31 | C12: xinshou shipin | D12: 13360011 | E12: 0 | F12: 1 | G12: 5
A13: 4 | B13: 31 | C13: xinshou shipin | D13: 1337002a | E13: 1 | F13: 1 | G13: 5
A14: 4 | B14: 31 | C14: xinshou shipin | D14: 1331002b | E14: 2 | F14: 1 | G14: 5
A15: 4 | B15: 31 | C15: xinshou shipin | D15: 1334001e | E15: 3 | F15: 1 | G15: 5
A16: 4 | B16: 31 | C16: xinshou shipin | D16: 1335002a | E16: 4 | F16: 1 | G16: 5
A17: 4 | B17: 31 | C17: xinshou shipin | D17: 1338001d | E17: 5 | F17: 1 | G17: 5
A18: 5 | B18: 12 | C18: gaoji yaopin | D18: 53100010 | E18: 0 | F18: 1 | G18: 70
A19: 5 | B19: 12 | C19: gaoji yaopin | D19: 53100020 | E19: 1 | F19: 1 | G19: 120
A20: 5 | B20: 12 | C20: gaoji yaopin | D20: 53200010 | E20: 2 | F20: 1 | G20: 70
A21: 5 | B21: 12 | C21: gaoji yaopin | D21: 53200020 | E21: 3 | F21: 1 | G21: 120
A22: 5 | B22: 12 | C22: gaoji yaopin | D22: 23200410 | E22: 4 | F22: 1 | G22: 50
A23: 5 | B23: 12 | C23: gaoji yaopin | D23: 23200430 | E23: 5 | F23: 1 | G23: 100
A24: 5 | B24: 12 | C24: gaoji yaopin | D24: 23200450 | E24: 6 | F24: 1 | G24: 150
A25: 5 | B25: 12 | C25: gaoji yaopin | D25: 23200420 | E25: 7 | F25: 1 | G25: 50
A26: 5 | B26: 12 | C26: gaoji yaopin | D26: 23200440 | E26: 8 | F26: 1 | G26: 100
A27: 5 | B27: 12 | C27: gaoji yaopin | D27: 23200460 | E27: 9 | F27: 1 | G27: 150
A28: 5 | B28: 12 | C28: gaoji yaopin | D28: 23530100 | E28: 10 | F28: 1 | G28: 500
A29: 1 | B29: 22 | C29: zhongji zhuangbei | D29: 1133002a | E29: 120000 | F29: 1 | G29: 5
A30: 1 | B30: 22 | C30: zhongji zhuangbei | D30: 1133002b | E30: 120001 | F30: 1 | G30: 25
A31: 1 | B31: 22 | C31: zhongji zhuangbei | D31: 11330024 | E31: 120002 | F31: 1 | G31: 150
A32: 1 | B32: 22 | C32: zhongji zhuangbei | D32: 11330038 | E32: 120003 | F32: 1 | G32: 800
A33: 1 | B33: 22 | C33: zhongji zhuangbei | D33: 1110002a | E33: 110000 | F33: 1 | G33: 5
A34: 1 | B34: 22 | C34: zhongji zhuangbei | D34: 1110008b | E34: 110001 | F34: 1 | G34: 25
A35: 1 | B35: 22 | C35: zhongji zhuangbei | D35: 11100104 | E35: 110002 | F35: 1 | G35: 150
A36: 1 | B36: 22 | C36: zhongji zhuangbei | D36: 11100118 | E36: 110003 | F36: 1 | G36: 800
A37: 1 | B37: 22 | C37: zhongji zhuangbei | D37: 1128001a | E37: 140000 | F37: 1 | G37: 5
A38: 1 | B38: 22 | C38: zhongji zhuangbei | D38: 1128001c | E38: 140001 | F38: 1 | G38: 25
A39: 1 | B39: 22 | C39: zhongji zhuangbei | D39: 1128001e | E39: 140002 | F39: 1 | G39: 150
A40: 1 | B40: 22 | C40: zhongji zhuangbei | D40: 11200012 | E40: 140003 | F40: 1 | G40: 800
...

Sheet 数据库导出
A2: 1 | B2: 11 | C2: xinshou yaodian | D2: 23610010 | E2: 0 | F2: 1 | G2: 5 | H2: 0
A3: 2 | B3: 11 | C3: xinshou yaodian | D3: 23620010 | E3: 1 | F3: 1 | G3: 5 | H3: 0
A4: 3 | B4: 21 | C4: xinshou zhuangbei | D4: 1133002a | E4: 120000 | F4: 1 | G4: 5 | H4: 0
A5: 4 | B5: 21 | C5: xinshou zhuangbei | D5: 1110002a | E5: 110000 | F5: 1 | G5: 5 | H5: 0
A6: 5 | B6: 21 | C6: xinshou zhuangbei | D6: 1128001a | E6: 140000 | F6: 1 | G6: 5 | H6: 0
A7: 6 | B7: 21 | C7: xinshou zhuangbei | D7: 11320028 | E7: 130000 | F7: 1 | G7: 5 | H7: 0
A8: 7 | B8: 21 | C8: xinshou zhuangbei | D8: 12330015 | E8: 220000 | F8: 1 | G8: 5 | H8: 0
A9: 8 | B9: 21 | C9: xinshou zhuangbei | D9: 12100161 | E9: 210000 | F9: 1 | G9: 5 | H9: 0
A10: 9 | B10: 21 | C10: xinshou zhuangbei | D10: 12200017 | E10: 240000 | F10: 1 | G10: 5 | H10: 0
A11: 10 | B11: 21 | C11: xinshou zhuangbei | D11: 1232001b | E11: 230000 | F11: 1 | G11: 5 | H11: 0
A12: 11 | B12: 31 | C12: xinshou shipin | D12: 13360011 | E12: 0 | F12: 1 | G12: 5 | H12: 0
A13: 12 | B13: 31 | C13: xinshou shipin | D13: 1337002a | E13: 1 | F13: 1 | G13: 5 | H13: 0
A14: 13 | B14: 31 | C14: xinshou shipin | D14: 1331002b | E14: 2 | F14: 1 | G14: 5 | H14: 0
A15: 14 | B15: 31 | C15: xinshou shipin | D15: 1334001e | E15: 3 | F15: 1 | G15: 5 | H15: 0
A16: 15 | B16: 31 | C16: xinshou shipin | D16: 1335002a | E16: 4 | F16: 1 | G16: 5 | H16: 0
A17: 16 | B17: 31 | C17: xinshou shipin | D17: 1338001d | E17: 5 | F17: 1 | G17: 5 | H17: 0
A18: 17 | B18: 12 | C18: gaoji yaopin | D18: 23610010 | E18: 0 | F18: 1 | G18: 5 | H18: 0
A19: 18 | B19: 12 | C19: gaoji yaopin | D19: 23610020 | E19: 1 | F19: 1 | G19: 12 | H19: 0
A20: 19 | B20: 12 | C20: gaoji yaopin | D20: 23610030 | E20: 2 | F20: 1 | G20: 30 | H20: 0
A21: 20 | B21: 12 | C21: gaoji yaopin | D21: 23620010 | E21: 4 | F21: 1 | G21: 5 | H21: 0
A22: 21 | B22: 12 | C22: gaoji yaopin | D22: 23620020 | E22: 5 | F22: 1 | G22: 12 | H22: 0
A23: 22 | B23: 12 | C23: gaoji yaopin | D23: 23620030 | E23: 6 | F23: 1 | G23: 30 | H23: 0
A24: 23 | B24: 12 | C24: gaoji yaopin | D24: 23200410 | E24: 7 | F24: 1 | G24: 5 | H24: 0
A25: 24 | B25: 12 | C25: gaoji yaopin | D25: 23200430 | E25: 8 | F25: 1 | G25: 12 | H25: 0
A26: 25 | B26: 12 | C26: gaoji yaopin | D26: 23200450 | E26: 9 | F26: 1 | G26: 35 | H26: 0
A27: 26 | B27: 12 | C27: gaoji yaopin | D27: 23200420 | E27: 10 | F27: 1 | G27: 5 | H27: 0
A28: 27 | B28: 12 | C28: gaoji yaopin | D28: 23200440 | E28: 11 | F28: 1 | G28: 12 | H28: 0
A29: 28 | B29: 12 | C29: gaoji yaopin | D29: 23200460 | E29: 12 | F29: 1 | G29: 30 | H29: 0
A30: 29 | B30: 12 | C30: gaoji yaopin | D30: 23530100 | E30: 13 | F30: 1 | G30: 500 | H30: 0
A31: 30 | B31: 22 | C31: zhongji zhuangbei | D31: 1133002a | E31: 120000 | F31: 1 | G31: 5 | H31: 0
A32: 31 | B32: 22 | C32: zhongji zhuangbei | D32: 1133002b | E32: 120001 | F32: 1 | G32: 25 | H32: 0
A33: 32 | B33: 22 | C33: zhongji zhuangbei | D33: 11330024 | E33: 120002 | F33: 1 | G33: 150 | H33: 0
A34: 34 | B34: 22 | C34: zhongji zhuangbei | D34: 1110002a | E34: 110000 | F34: 1 | G34: 5 | H34: 0
A35: 35 | B35: 22 | C35: zhongji zhuangbei | D35: 1110008b | E35: 110001 | F35: 1 | G35: 25 | H35: 0
A36: 36 | B36: 22 | C36: zhongji zhuangbei | D36: 11100104 | E36: 110002 | F36: 1 | G36: 150 | H36: 0
A37: 38 | B37: 22 | C37: zhongji zhuangbei | D37: 1128001a | E37: 140000 | F37: 1 | G37: 5 | H37: 0
A38: 39 | B38: 22 | C38: zhongji zhuangbei | D38: 1128001c | E38: 140001 | F38: 1 | G38: 25 | H38: 0
A39: 40 | B39: 22 | C39: zhongji zhuangbei | D39: 1128001e | E39: 140002 | F39: 1 | G39: 150 | H39: 0
A40: 42 | B40: 22 | C40: zhongji zhuangbei | D40: 11320028 | E40: 130000 | F40: 1 | G40: 5 | H40: 0
A41: 43 | B41: 22 | C41: zhongji zhuangbei | D41: 1132002c | E41: 130001 | F41: 1 | G41: 25 | H41: 0
...

Sheet Sheet2
A1: 物品ID | B1: 改名 | C1: 银豆价格 | D1: 游戏币卖价 | E1: 冷却时间 | F1: 触发技能ID | G1: 需求称号 | H1: 位置 | I1: 需求荣誉值 | J1: 是否可交易
A2: itemid | C2: buyprice | D2: sellprice | E2: cd | F2: skillid | G2: reqtitle | H2: location | I2: reqhonour | J2: trade
A3: 13430001 | B3: 神秘手套 | C3: 0 | D3: 1 | E3: 0 | F3: 0 | G3: 0 | H3: 1 | I3: 0 | J3: 1
A4: 13490001 | B4: 神秘内衣 | C4: 0 | D4: 1 | E4: 0 | F4: 0 | G4: 0 | H4: 1 | I4: 0 | J4: 1
A5: 134a0001 | B5: 神秘袜子 | C5: 0 | D5: 1 | E5: 0 | F5: 0 | G5: 0 | H5: 1 | I5: 0 | J5: 1
A6: 13460001 | B6: 神秘耳环 | C6: 0 | D6: 1 | E6: 0 | F6: 0 | G6: 0 | H6: 1 | I6: 0 | J6: 1
A7: 13470001 | B7: 神秘护符 | C7: 0 | D7: 1 | E7: 0 | F7: 0 | G7: 0 | H7: 1 | I7: 0 | J7: 1
A8: 13410001 | B8: 神秘项链 | C8: 0 | D8: 1 | E8: 0 | F8: 0 | G8: 0 | H8: 1 | I8: 0 | J8: 1
A9: 13420001 | B9: 神秘腰带 | C9: 0 | D9: 1 | E9: 0 | F9: 0 | G9: 0 | H9: 1 | I9: 0 | J9: 1
A10: 13440001 | B10: 神秘眼镜 | C10: 0 | D10: 1 | E10: 0 | F10: 0 | G10: 0 | H10: 1 | I10: 0 | J10: 1
A11: 13450001 | B11: 神秘头饰 | C11: 0 | D11: 1 | E11: 0 | F11: 0 | G11: 0 | H11: 1 | I11: 0 | J11: 1
A12: 13480001 | B12: 神秘尾巴 | C12: 0 | D12: 1 | E12: 0 | F12: 0 | G12: 0 | H12: 1 | I12: 0 | J12: 1
A13: 1133002a | B13: 深红手套 | C13: 5 | D13: 1 | E13: 0 | F13: 0 | G13: 0 | H13: 1 | I13: 0 | J13: 0
A14: 1133002b | B14: 阳光手套 | C14: 25 | D14: 1 | E14: 0 | F14: 0 | G14: 0 | H14: 1 | I14: 0 | J14: 1
A15: 11330024 | B15: 水晶手套 | C15: 150 | D15: 1 | E15: 0 | F15: 0 | G15: 0 | H15: 1 | I15: 0 | J15: 1
A16: 11330038 | B16: 流星手套 | C16: 800 | D16: 1 | E16: 0 | F16: 0 | G16: 0 | H16: 1 | I16: 0 | J16: 1
A17: 1133003b | B17: 大地手套 | C17: 2600 | D17: 1 | E17: 0 | F17: 0 | G17: 0 | H17: 1 | I17: 0 | J17: 1
A18: 11330036 | B18: 生命手套 | C18: 7200 | D18: 1 | E18: 0 | F18: 0 | G18: 0 | H18: 1 | I18: 0 | J18: 1
A19: 1110002a | B19: 深红背心 | C19: 5 | D19: 1 | E19: 0 | F19: 0 | G19: 0 | H19: 1 | I19: 0 | J19: 0
A20: 1110008b | B20: 阳光T恤 | C20: 25 | D20: 1 | E20: 0 | F20: 0 | G20: 0 | H20: 1 | I20: 0 | J20: 1
A21: 11100104 | B21: 水晶上衣 | C21: 150 | D21: 1 | E21: 0 | F21: 0 | G21: 0 | H21: 1 | I21: 0 | J21: 1
A22: 11100118 | B22: 流星上衣 | C22: 800 | D22: 1 | E22: 0 | F22: 0 | G22: 0 | H22: 1 | I22: 0 | J22: 1
A23: 11100087 | B23: 大地上衣 | C23: 2600 | D23: 1 | E23: 0 | F23: 0 | G23: 0 | H23: 1 | I23: 0 | J23: 1
A24: 11100096 | B24: 生命上衣 | C24: 7200 | D24: 1 | E24: 0 | F24: 0 | G24: 0 | H24: 1 | I24: 0 | J24: 1
A25: 1128001a | B25: 深红袜子 | C25: 5 | D25: 1 | E25: 0 | F25: 0 | G25: 0 | H25: 1 | I25: 0 | J25: 0
A26: 1128001c | B26: 阳光袜子 | C26: 25 | D26: 1 | E26: 0 | F26: 0 | G26: 0 | H26: 1 | I26: 0 | J26: 1
A27: 1128001e | B27: 水晶袜子 | C27: 150 | D27: 1 | E27: 0 | F27: 0 | G27: 0 | H27: 1 | I27: 0 | J27: 1
A28: 11200012 | B28: 流星袜子 | C28: 800 | D28: 1 | E28: 0 | F28: 0 | G28: 0 | H28: 1 | I28: 0 | J28: 1
A29: 1128001b | B29: 大地袜子 | C29: 2600 | D29: 1 | E29: 0 | F29: 0 | G29: 0 | H29: 1 | I29: 0 | J29: 1
A30: 11200016 | B30: 生命袜子 | C30: 7200 | D30: 1 | E30: 0 | F30: 0 | G30: 0 | H30: 1 | I30: 0 | J30: 1
A31: 13360011 | B31: 白银耳环 | C31: 5 | D31: 1 | E31: 0 | F31: 0 | G31: 0 | H31: 1 | I31: 0 | J31: 0
A32: 13360012 | B32: 黄金耳环 | C32: 25 | D32: 1 | E32: 0 | F32: 0 | G32: 0 | H32: 1 | I32: 0 | J32: 1
A33: 13360013 | B33: 星星耳环 | C33: 150 | D33: 1 | E33: 0 | F33: 0 | G33: 0 | H33: 1 | I33: 0 | J33: 1
A34: 13360014 | B34: 红宝石耳环 | C34: 800 | D34: 1 | E34: 0 | F34: 0 | G34: 0 | H34: 1 | I34: 0 | J34: 1
A35: 13360015 | B35: 陨石耳环 | C35: 2600 | D35: 1 | E35: 0 | F35: 0 | G35: 0 | H35: 1 | I35: 0 | J35: 1
A36: 13360016 | B36: 月牙耳环 | C36: 7200 | D36: 1 | E36: 0 | F36: 0 | G36: 0 | H36: 1 | I36: 0 | J36: 1
A37: 1337002a | B37: 红水晶护符 | C37: 5 | D37: 1 | E37: 0 | F37: 0 | G37: 0 | H37: 1 | I37: 0 | J37: 0
A38: 13370025 | B38: 蓝水晶护符 | C38: 25 | D38: 1 | E38: 0 | F38: 0 | G38: 0 | H38: 1 | I38: 0 | J38: 1
A39: 13370026 | B39: 绿水晶护符 | C39: 150 | D39: 1 | E39: 0 | F39: 0 | G39: 0 | H39: 1 | I39: 0 | J39: 1
A40: 1337001a | B40: 紫水晶护符 | C40: 800 | D40: 1 | E40: 0 | F40: 0 | G40: 0 | H40: 1 | I40: 0 | J40: 1
...
